BEGIN:VCALENDAR
VERSION:2.0
PRODID:-//ChamberMaster//Event Calendar 2.0//EN
METHOD:PUBLISH
X-PUBLISHED-TTL:P3D
REFRESH-INTERVAL:P3D
CALSCALE:GREGORIAN
BEGIN:VEVENT
DTSTART:20160221T230000Z
DTEND:20160221T080000Z
X-MICROSOFT-CDO-ALLDAYEVENT:FALSE
SUMMARY:IT'S MAGIC!
DESCRIPTION:It’s Magic! has been delighting audiences for more than five decades. This show includes many of the top pro­fessional magicians worldwide\, with each act carefully selected to represent the variety found in the art of magic. Many of them are renowned for their appearances at Hollywood’s famous Magic Castle. Featured in this performance are: \n\nMurray Hatfield & Teresa\nChuck Jones & Co.\nDavid Zirbel\nMatt Marcy \nDan Raspyni\nContact :	Gallo Center\nPhone :	209-338-2100\nEmail :	\nWeb Site :	galloarts.org
X-ALT-DESC;FMTTYPE=text/html:It’s Magic! has been delighting audiences for more than five decades. This show includes many of the top pro­fessional magicians worldwide\, with each act carefully selected to represent the variety found in the art of magic. Many of them are renowned for their appearances at Hollywood’s famous Magic Castle. Featured in this performance are: \n\nMurray Hatfield & Teresa\nChuck Jones & Co.\nDavid Zirbel\nMatt Marcy \nDan Raspyni\nContact :	Gallo Center\nPhone :	209-338-2100\nEmail :	\nWeb Site :	galloarts.org
LOCATION:Gallo Center 1000 I Street Modesto\, CA 95354
UID:e.2695.1537
SEQUENCE:3
DTSTAMP:20260419T163729Z
URL:https://business.modchamber.org/events/details/it-s-magic-02-21-2016-1537
END:VEVENT

END:VCALENDAR
