BEGIN:VCALENDAR
VERSION:2.0
PRODID:-//ChamberMaster//Event Calendar 2.0//EN
METHOD:PUBLISH
X-PUBLISHED-TTL:P3D
REFRESH-INTERVAL:P3D
CALSCALE:GREGORIAN
BEGIN:VEVENT
DTSTART:20151205T033000Z
DTEND:20151204T080000Z
X-MICROSOFT-CDO-ALLDAYEVENT:FALSE
SUMMARY:IT'S A WONDERFUL LIFE: RADIO
DESCRIPTION:The Gallo Center & CSU-Stanislaus present\nIT'S A WONDERFUL LIFE: THE RADIO PLAY\nSponsored in Remembrance of Bette Belle Smith\n\nThe Gallo Center and the drama department at California State University Stanislaus previously collaborated on this production in 2010\, selling out four performances. This is a beautiful rendering of the classic Frank Capra movie that starred Jimmy Stewart. Done in the style of a 1940's radio show\, the play faithfully captures the passion\, simplicity\, and melancholy of a man's view of how the world would have existed without him. This journey ultimately teaches him the true meaning of Christmas and friendship. Bring your family and watch a new generation fall in love with this heartwarming story.\nContact :	Gallo Center\nPhone :	209-338-2100\nEmail :	\nWeb Site :	galloarts.org
X-ALT-DESC;FMTTYPE=text/html:The Gallo Center & CSU-Stanislaus present\nIT'S A WONDERFUL LIFE: THE RADIO PLAY\nSponsored in Remembrance of Bette Belle Smith\n\nThe Gallo Center and the drama department at California State University Stanislaus previously collaborated on this production in 2010\, selling out four performances. This is a beautiful rendering of the classic Frank Capra movie that starred Jimmy Stewart. Done in the style of a 1940's radio show\, the play faithfully captures the passion\, simplicity\, and melancholy of a man's view of how the world would have existed without him. This journey ultimately teaches him the true meaning of Christmas and friendship. Bring your family and watch a new generation fall in love with this heartwarming story.\nContact :	Gallo Center\nPhone :	209-338-2100\nEmail :	\nWeb Site :	galloarts.org
LOCATION:Gallo Center 1000 I St Modesto\, CA 95354
UID:e.2695.1288
SEQUENCE:3
DTSTAMP:20260419T191122Z
URL:https://business.modchamber.org/events/details/it-s-a-wonderful-life-radio-12-04-2015-1288
END:VEVENT

END:VCALENDAR
