BEGIN:VCALENDAR
VERSION:2.0
PRODID:-//ChamberMaster//Event Calendar 2.0//EN
METHOD:PUBLISH
X-PUBLISHED-TTL:P3D
REFRESH-INTERVAL:P3D
CALSCALE:GREGORIAN
BEGIN:VEVENT
DTSTART:20150913T190000Z
DTEND:20150913T230000Z
X-MICROSOFT-CDO-ALLDAYEVENT:FALSE
SUMMARY:International Wedding Festival
DESCRIPTION:The largest bridal show in Modesto! Under one roof\, you will find rows and rows of the Valley's most elite talent for your special day! Find photographers\, DJ's\, Limos\, Event Planners\, Florists\, Bakeries\, Honeymoons\, and hundreds of ideas!\n\nTickets $15\nContact :	\nPhone :	209-966-3890\nEmail :	\nWeb Site :	www.internationalweddingfestival.com
X-ALT-DESC;FMTTYPE=text/html:The largest bridal show in Modesto! Under one roof\, you will find rows and rows of the Valley's most elite talent for your special day! Find photographers\, DJ's\, Limos\, Event Planners\, Florists\, Bakeries\, Honeymoons\, and hundreds of ideas!\n\nTickets $15\nContact :	\nPhone :	209-966-3890\nEmail :	\nWeb Site :	www.internationalweddingfestival.com
LOCATION:Centre Plaza 1000 L St Modesto\, CA 95354
UID:e.2695.1069
SEQUENCE:3
DTSTAMP:20260419T231833Z
URL:https://business.modchamber.org/events/details/international-wedding-festival-09-13-2015-1069
END:VEVENT

END:VCALENDAR
