BEGIN:VCALENDAR
VERSION:2.0
PRODID:-//ChamberMaster//Event Calendar 2.0//EN
METHOD:PUBLISH
X-PUBLISHED-TTL:P3D
REFRESH-INTERVAL:P3D
CALSCALE:GREGORIAN
BEGIN:VEVENT
DTSTART:20151003T180000Z
DTEND:20151004T000000Z
X-MICROSOFT-CDO-ALLDAYEVENT:FALSE
SUMMARY:International Heritage Festival
DESCRIPTION:Modesto's Annual International Festival presents "a day of cultural celebration" - a family-orientated event showcasing the many cultures of the area through music and dance\, with special activities for the kids\, cultural booths\, food booths and more. Admission is free\nContact :	International Heritage Festival\nPhone :	209-521-3852\nEmail :	\nWeb Site :	www.internationalfestivalmodesto.org
X-ALT-DESC;FMTTYPE=text/html:Modesto's Annual International Festival presents "a day of cultural celebration" - a family-orientated event showcasing the many cultures of the area through music and dance\, with special activities for the kids\, cultural booths\, food booths and more. Admission is free\nContact :	International Heritage Festival\nPhone :	209-521-3852\nEmail :	\nWeb Site :	www.internationalfestivalmodesto.org
LOCATION:MJC\, East Campus 1100 Stoddard Ave. Modesto\, CA 95358
UID:e.2695.1214
SEQUENCE:3
DTSTAMP:20260419T214833Z
URL:https://business.modchamber.org/events/details/international-heritage-festival-10-03-2015-1214
END:VEVENT

END:VCALENDAR
