BEGIN:VCALENDAR
VERSION:2.0
PRODID:-//ChamberMaster//Event Calendar 2.0//EN
METHOD:PUBLISH
X-PUBLISHED-TTL:P3D
REFRESH-INTERVAL:P3D
CALSCALE:GREGORIAN
BEGIN:VEVENT
DTSTART:20151005T020000Z
DTEND:20151004T070000Z
X-MICROSOFT-CDO-ALLDAYEVENT:FALSE
SUMMARY:Independent Film and Artistic Achievement Awards
DESCRIPTION:Steam House Coffee Co.\, a Victorian Steam Punk Café\, soon to be situated in Modesto\, is hosting the region’s first annual Steam House Coffee Co. Independent Film and Artistic Achievement Awards Ceremony\, an evening recognizing and honoring the work of artists and filmmakers whose focus is on the counter/geek culture. Attendees will be greeted by a red carpet which will usher them into the Art Deco-inspired\, historic State Theatre\, where photo opportunities await\, along with noted special guests and a Hollywood-style ceremony befitting the men and women working in this new and innovative realm. The ceremony at The State follows Steam House Con\, being held Fri. and Sat. Oct. 2 and 3\, at the Stanislaus County Fairgrounds in Turlock. The event includes panel discussions\, celebrity guests\, vendors\, gaming tournaments\, all of which kick off with a gala Masquerade Ball the night of Fri. Oct. 2 from 7 to 10 p.m. For more information visit https://filmfreeway.com/festival/SteamHouseCoffeeCoIndependentFilmandArtisticAchievementAwards. For Steam House Con tickets and information go to http://www.steamhousecoffeeco.com/\nDoors at 6 p.m.\; Ceremony at 7 p.m. \nAdmission: $24\, $50\, $75\, $100\nContact :	State Theatre\nPhone :	BOX OFFICE (209) 527-4697\nEmail :	\nWeb Site :	thestate.org
X-ALT-DESC;FMTTYPE=text/html:	Steam House Coffee Co.\, a Victorian Steam Punk Café\, soon to be situated in Modesto\, is hosting the region’s first annual Steam House Coffee Co. Independent Film and Artistic Achievement Awards Ceremony\, an evening recognizing and honoring the work of artists and filmmakers whose focus is on the counter/geek culture. Attendees will be greeted by a red carpet which will usher them into the Art Deco-inspired\, historic State Theatre\, where photo opportunities await\, along with noted special guests and a Hollywood-style ceremony befitting the men and women working in this new and innovative realm. The ceremony at The State follows Steam House Con\, being held Fri. and Sat. Oct. 2 and 3\, at the Stanislaus County Fairgrounds in Turlock. The event includes panel discussions\, celebrity guests\, vendors\, gaming tournaments\, all of which kick off with a gala Masquerade Ball the night of Fri. Oct. 2 from 7 to 10 p.m. For more information visit https://filmfreeway.com/festival/SteamHouseCoffeeCoIndependentFilmandArtisticAchievementAwards. For Steam House Con tickets and information go to http://www.steamhousecoffeeco.com/\nDoors at 6 p.m.\; Ceremony at 7 p.m. \nAdmission: $24\, $50\, $75\, $100\nContact :	State Theatre\nPhone :	BOX OFFICE (209) 527-4697\nEmail :	\nWeb Site :	thestate.org
LOCATION:State Theatre 1307 J St Modesto\, CA 95354
UID:e.2695.1167
SEQUENCE:3
DTSTAMP:20260419T214913Z
URL:https://business.modchamber.org/events/details/independent-film-and-artistic-achievement-awards-10-04-2015-1167
END:VEVENT

END:VCALENDAR
