BEGIN:VCALENDAR
VERSION:2.0
PRODID:-//ChamberMaster//Event Calendar 2.0//EN
METHOD:PUBLISH
X-PUBLISHED-TTL:P3D
REFRESH-INTERVAL:P3D
CALSCALE:GREGORIAN
BEGIN:VEVENT
DTSTART:20150927T234500Z
DTEND:20150928T011500Z
X-MICROSOFT-CDO-ALLDAYEVENT:FALSE
SUMMARY:''In & Out of Shadows'' the Play Modesto City Schools & San Francisco Youth Theatre
DESCRIPTION:A play for the entire family! Parents are encouraged to bring their students from elementary through high school & college. \n\nA play about family values\, hopes\, dreams\, inspiration\, struggles and sacrifices for better life.\n\nIn & Out Shadows\, a musical by famed Chicano writer Gary Soto\, is about the lives and experiences of a group of undocumented teenagers in the hopes of pursuing higher education and making their dreams come true.\n\nSpecial performance by Ballet Folklorico Los Falcones.\n\nEnjoy a FREE Inspirational & Quality family night out!\nContact :	Modesto City School\nPhone :	209-575-8521\nEmail :	\nWeb Site :
X-ALT-DESC;FMTTYPE=text/html:A play for the entire family! Parents are encouraged to bring their students from elementary through high school & college. \n\nA play about family values\, hopes\, dreams\, inspiration\, struggles and sacrifices for better life.\n\nIn & Out Shadows\, a musical by famed Chicano writer Gary Soto\, is about the lives and experiences of a group of undocumented teenagers in the hopes of pursuing higher education and making their dreams come true.\n\nSpecial performance by Ballet Folklorico Los Falcones.\n\nEnjoy a FREE Inspirational & Quality family night out!\nContact :	Modesto City School\nPhone :	209-575-8521\nEmail :	\nWeb Site :	
LOCATION:Modesto High School Auditorium 18 H St Modesto\, CA 95351
UID:e.2695.1203
SEQUENCE:3
DTSTAMP:20260419T232232Z
URL:https://business.modchamber.org/events/details/in-out-of-shadows-the-play-modesto-city-schools-san-francisco-youth-theatre-09-27-2015-1203
END:VEVENT

END:VCALENDAR
