BEGIN:VCALENDAR
VERSION:2.0
PRODID:-//ChamberMaster//Event Calendar 2.0//EN
METHOD:PUBLISH
X-PUBLISHED-TTL:P3D
REFRESH-INTERVAL:P3D
CALSCALE:GREGORIAN
BEGIN:VEVENT
DTSTART:20150208T013000Z
DTEND:20150207T080000Z
X-MICROSOFT-CDO-ALLDAYEVENT:FALSE
SUMMARY:Howard Training Center's 21st Annual Crab Fest
DESCRIPTION:HOWARD TRAINING CENTER'S 21ST ANNUAL CRAB FEST DOORS OPEN 5:30PM - DINNER 7:00PM  LIVE MUSIC PERFORMED BY - LIVIN AT 9:00PM  LIVE AUCTION & RAFFLE PRIZES - NO HOST BAR  TICKETS: $45 EACH MORE INFOMRATION: 209-593-5618SPONORSHIPS AVAILABLE
X-ALT-DESC;FMTTYPE=text/html:<DIV style="FONT-FAMILY: Arial"><STRONG>HOWARD TRAINING CENTER'S 21ST ANNUAL CRAB FEST</STRONG></DIV><DIV style="FONT-FAMILY: Arial">&nbsp\;</DIV><DIV style="FONT-FAMILY: Arial">DOORS OPEN 5:30PM - DINNER 7:00PM </DIV><DIV style="FONT-FAMILY: Arial">&nbsp\;</DIV><DIV style="FONT-FAMILY: Arial">LIVE MUSIC PERFORMED BY - LIVIN AT 9:00PM </DIV><DIV style="FONT-FAMILY: Arial">&nbsp\;</DIV><DIV style="FONT-FAMILY: Arial">LIVE AUCTION &amp\; RAFFLE PRIZES - NO HOST BAR </DIV><DIV style="FONT-FAMILY: Arial">&nbsp\;</DIV><DIV style="FONT-FAMILY: Arial"><STRONG>TICKETS: $45 EACH</STRONG></DIV><DIV style="FONT-FAMILY: Arial">&nbsp\;</DIV><DIV style="FONT-FAMILY: Arial">MORE INFOMRATION: 209-593-5618</DIV><DIV style="FONT-FAMILY: Arial">SPONORSHIPS AVAILABLE </DIV>
LOCATION:Witmer Hall 1424 Stonum Road Modesto\, CA 95351
UID:e.2695.672
SEQUENCE:3
DTSTAMP:20260422T090607Z
URL:https://business.modchamber.org/events/details/howard-training-center-s-21st-annual-crab-fest-02-07-2015-672
END:VEVENT

END:VCALENDAR
