BEGIN:VCALENDAR
VERSION:2.0
PRODID:-//ChamberMaster//Event Calendar 2.0//EN
METHOD:PUBLISH
X-PUBLISHED-TTL:P3D
REFRESH-INTERVAL:P3D
CALSCALE:GREGORIAN
BEGIN:VEVENT
DTSTART:20150502T200000Z
DTEND:20150502T210000Z
X-MICROSOFT-CDO-ALLDAYEVENT:FALSE
SUMMARY:Hope for Parents of College-Bound Students
DESCRIPTION:College - It's no secret that it's expensive.  In fact\, other than possibly your home\, education costs could be the greatest expenses you'll incur in your lifetime.  Take the time to become an informed buyer of a college education.  No matter your income level\, if you plan appropriately you can saveON rather than just FOR the cost of a college education. \n\nIf you have college-bound children andplan to play any role in funding their education\, make this the year your college plans and savingsbecome a reality!  The costs are simply too high to be caught unprepared and you can start planningno matter the age of your children.  All the information you need to get started is in this one hour seminar.
X-ALT-DESC;FMTTYPE=text/html:College - It's no secret that it's expensive.  In fact\, other than possibly your home\, education costs could be the greatest expenses you'll incur in your lifetime.  Take the time to become an informed buyer of a college education.  No matter your income level\, if you plan appropriately you can saveON rather than just FOR the cost of a college education. \n\nIf you have college-bound children andplan to play any role in funding their education\, make this the year your college plans and savingsbecome a reality!  The costs are simply too high to be caught unprepared and you can start planningno matter the age of your children.  All the information you need to get started is in this one hour seminar.
LOCATION:Salida Library 4835 Sisk Rd. Salida\, CA 95368
UID:e.2695.737
SEQUENCE:3
DTSTAMP:20260420T063135Z
URL:https://business.modchamber.org/events/details/hope-for-parents-of-college-bound-students-05-02-2015-737
END:VEVENT

END:VCALENDAR
