BEGIN:VCALENDAR
VERSION:2.0
PRODID:-//ChamberMaster//Event Calendar 2.0//EN
METHOD:PUBLISH
X-PUBLISHED-TTL:P3D
REFRESH-INTERVAL:P3D
CALSCALE:GREGORIAN
BEGIN:VEVENT
DTSTART:20151205T220000Z
DTEND:20151205T080000Z
X-MICROSOFT-CDO-ALLDAYEVENT:FALSE
SUMMARY:HOLIDAY POPS! -Modesto Symphony Orchestra
DESCRIPTION:HILMAR CHEESE COMPANY POPS SERIES \nRyan Murray\, conductor\nAlli Mauzey\, vocalist\nMSO Chorus\nDr. Daniel R. Afonso\, Jr.\, chorus director\nExpressions Youth Choir \nCandy Chamberlain\, chorus director\n\nProgram\n\nCelebrate the season with the Modesto Symphony and Broadway singer\, Alli Mauzey\, for a concert of your favorite Christmas classics\, carols and medleys. Always a big hit\, this concert also features performances by the talented MSO Chorus and the Expressions Youth Choir. Continue the tradition or start a new one and join us for some holiday cheer!\n\nMeet Alli Mauzey...\n\nFrom Glinda in the Broadway production of Wicked\, soloist appearances with orchestras around the country and her tenure in multiple off Broadway productions\, Alli Mauzey\, is a modern day renaissance woman! Check out this hilarious video of her as Gilnda in performing "Popular" the with Donna Vivino.\nContact :	Gallo Center\nPhone :	209-338-2100\nEmail :	\nWeb Site :	galloarts.org
X-ALT-DESC;FMTTYPE=text/html:HILMAR CHEESE COMPANY POPS SERIES \nRyan Murray\, conductor\nAlli Mauzey\, vocalist\nMSO Chorus\nDr. Daniel R. Afonso\, Jr.\, chorus director\nExpressions Youth Choir \nCandy Chamberlain\, chorus director\n\nProgram\n\nCelebrate the season with the Modesto Symphony and Broadway singer\, Alli Mauzey\, for a concert of your favorite Christmas classics\, carols and medleys. Always a big hit\, this concert also features performances by the talented MSO Chorus and the Expressions Youth Choir. Continue the tradition or start a new one and join us for some holiday cheer!\n\nMeet Alli Mauzey...\n\nFrom Glinda in the Broadway production of Wicked\, soloist appearances with orchestras around the country and her tenure in multiple off Broadway productions\, Alli Mauzey\, is a modern day renaissance woman! Check out this hilarious video of her as Gilnda in performing "Popular" the with Donna Vivino.\nContact :	Gallo Center\nPhone :	209-338-2100\nEmail :	\nWeb Site :	galloarts.org
LOCATION:Gallo Center 1000 I St Modesto\, CA 95354
UID:e.2695.1295
SEQUENCE:3
DTSTAMP:20260419T191013Z
URL:https://business.modchamber.org/events/details/holiday-pops-modesto-symphony-orchestra-12-05-2015-1295
END:VEVENT

END:VCALENDAR
