BEGIN:VCALENDAR
VERSION:2.0
PRODID:-//ChamberMaster//Event Calendar 2.0//EN
METHOD:PUBLISH
X-PUBLISHED-TTL:P3D
REFRESH-INTERVAL:P3D
CALSCALE:GREGORIAN
BEGIN:VEVENT
DTSTART:20151216T040000Z
DTEND:20151215T080000Z
X-MICROSOFT-CDO-ALLDAYEVENT:FALSE
SUMMARY:HOLIDAY CANDLELIGHT CONCERT - Modesto Symphony Orchestra
DESCRIPTION:Dr. Daniel R. Afonso\, Jr.\, conductor\nModesto Symphony Orchestra Chorus\nDr. Daniel R. Afonso\, Jr.\, chorus director\nExpressions Youth Choir\nCandy Chamberlain\, director\nOpus Handbell Ensemble\nRichard Colla\, director\n\nProgram\n\nBask in the warmth of candlelight and celebrate the height of the holiday season with Chorus Director\, Dr. Daniel R. Afonso\, Jr.\, the Modesto Symphony Orchestra and Chorus. Add your voice to the celebration and sing along to Joy to The World\, The First Noel\, Angels We Have Heard on High and Away in the Manger. Share the spark of the season with us this holiday!\nContact :	Gallo Center\nPhone :	209-338-2100\nEmail :	\nWeb Site :	galloarts.org
X-ALT-DESC;FMTTYPE=text/html:Dr. Daniel R. Afonso\, Jr.\, conductor\nModesto Symphony Orchestra Chorus\nDr. Daniel R. Afonso\, Jr.\, chorus director\nExpressions Youth Choir\nCandy Chamberlain\, director\nOpus Handbell Ensemble\nRichard Colla\, director\n\nProgram\n\nBask in the warmth of candlelight and celebrate the height of the holiday season with Chorus Director\, Dr. Daniel R. Afonso\, Jr.\, the Modesto Symphony Orchestra and Chorus. Add your voice to the celebration and sing along to Joy to The World\, The First Noel\, Angels We Have Heard on High and Away in the Manger. Share the spark of the season with us this holiday!\nContact :	Gallo Center\nPhone :	209-338-2100\nEmail :	\nWeb Site :	galloarts.org\n
LOCATION:
UID:e.2695.1304
SEQUENCE:3
DTSTAMP:20260419T191159Z
URL:https://business.modchamber.org/events/details/holiday-candlelight-concert-modesto-symphony-orchestra-12-15-2015-1304
END:VEVENT

END:VCALENDAR
