BEGIN:VCALENDAR
VERSION:2.0
PRODID:-//ChamberMaster//Event Calendar 2.0//EN
METHOD:PUBLISH
X-PUBLISHED-TTL:P3D
REFRESH-INTERVAL:P3D
CALSCALE:GREGORIAN
BEGIN:VEVENT
DTSTART:20150611T020000Z
DTEND:20150610T070000Z
X-MICROSOFT-CDO-ALLDAYEVENT:FALSE
SUMMARY:Historic Graffiti Cruise Route Presentation
DESCRIPTION:Presentation and live music. Starting at 7:00pm in the 10th Street \nPlaza.\nContact :	\nPhone :	\nEmail :	\nWeb Site :	www.modestocruiseroute.com
X-ALT-DESC;FMTTYPE=text/html:Presentation and live music. Starting at 7:00pm in the 10th Street \nPlaza.\nContact :	\nPhone :	\nEmail :	\nWeb Site :	www.modestocruiseroute.com\n
LOCATION:10th Steet Plaza 1010 10th St Modesto\, CA 95354
UID:e.2695.991
SEQUENCE:3
DTSTAMP:20260420T031847Z
URL:https://business.modchamber.org/events/details/historic-graffiti-cruise-route-presentation-06-10-2015-991
END:VEVENT

END:VCALENDAR
