BEGIN:VCALENDAR
VERSION:2.0
PRODID:-//ChamberMaster//Event Calendar 2.0//EN
METHOD:PUBLISH
X-PUBLISHED-TTL:P3D
REFRESH-INTERVAL:P3D
CALSCALE:GREGORIAN
BEGIN:VEVENT
DTSTART:20160313T220000Z
DTEND:20160313T080000Z
X-MICROSOFT-CDO-ALLDAYEVENT:FALSE
SUMMARY:HELLO GORGEOUS STREISAND
DESCRIPTION:Hello Gorgeous! A Live Tribute to Barbra Streisand \nStarring Rebecca Clark as Miss Barbra Streisand\n\nActress/Singer Rebecca Clark becomes Barbra Streisand in this live one-woman musical delivering all the greatest hits of this legendary singer performed live with no sync or voice track! Through live singing and comedic dialogue\, along with playful crowd interaction\, Clark captures the character and heart of Streisand\, recounting her amazing journey through stage\, television and film. Performing songs from Funny Girl\, A Star Is Born and Yentl\, Miss Clark will include many of Streisand's greatest hits such as 'Evergreen\,' 'The Way We Were\,' 'Second Hand Rose\,' 'You Don't Bring Me Flowers\,' 'Memories\,' - and many more surprises! \n\nDon't miss this fun\, highly entertaining family friendly show!\nContact :	Gallo Center\nPhone :	209-338-2100\nEmail :	\nWeb Site :	galloarts.org
X-ALT-DESC;FMTTYPE=text/html:Hello Gorgeous! A Live Tribute to Barbra Streisand \nStarring Rebecca Clark as Miss Barbra Streisand\n\nActress/Singer Rebecca Clark becomes Barbra Streisand in this live one-woman musical delivering all the greatest hits of this legendary singer performed live with no sync or voice track! Through live singing and comedic dialogue\, along with playful crowd interaction\, Clark captures the character and heart of Streisand\, recounting her amazing journey through stage\, television and film. Performing songs from Funny Girl\, A Star Is Born and Yentl\, Miss Clark will include many of Streisand's greatest hits such as 'Evergreen\,' 'The Way We Were\,' 'Second Hand Rose\,' 'You Don't Bring Me Flowers\,' 'Memories\,' - and many more surprises! \n\nDon't miss this fun\, highly entertaining family friendly show!\nContact :	Gallo Center\nPhone :	209-338-2100\nEmail :	\nWeb Site :	galloarts.org
LOCATION:Gallo Center 1000 I Street Modesto\, CA 95354
UID:e.2695.1463
SEQUENCE:3
DTSTAMP:20260419T154217Z
URL:https://business.modchamber.org/events/details/hello-gorgeous-streisand-03-13-2016-1463
END:VEVENT

END:VCALENDAR
