BEGIN:VCALENDAR
VERSION:2.0
PRODID:-//ChamberMaster//Event Calendar 2.0//EN
METHOD:PUBLISH
X-PUBLISHED-TTL:P3D
REFRESH-INTERVAL:P3D
CALSCALE:GREGORIAN
BEGIN:VEVENT
DTSTART;VALUE=DATE:20160330
DTEND;VALUE=DATE:20160402
TRANSP:TRANSPARENT
X-MICROSOFT-CDO-ALLDAYEVENT:TRUE
SUMMARY:Heart of the Valley Speech & Debate Tournament
DESCRIPTION:Three day Speech & Debate Tournament held at the Big Valley Christian School\, 4040 Tully Road.\n\nSchedule:\n\nMARCH 30th\n\nStarts Ends Name\n7:00 AM 7:45 AM Check In\n7:00 AM 10:00 AM Script Submission\n7:45 AM 7:45 AM Post Round 1\n8:00 AM 9:45 AM TP Debate Round 1\n9:45 AM 10:45 AM LD Debate Round 1\n10:45 AM 12:45 PM Speech Pattern A Round 1/ Parli Debate RD 1 & 2\n11:30 AM 1:30 PM Pre-paid lunch pick up\n12:45 PM 2:30 PM TP Debate Round 2\n2:30 PM 3:30 PM LD Debate Round 2\n3:30 PM 3:45 PM Extemp Draw\n3:45 PM 5:45 PM Speech Pattern B Round 1\n5:45 PM 7:30 PM TP Debate Round 3\n7:30 PM 8:30 PM LD Debate Round 3\n\nMARCH 31st\n\nStarts Ends Name\n7:15 AM 7:15 AM Postings go up\n7:30 AM 9:15 AM TP Debate Round 4\n9:15 AM 10:15 AM LD Debate Round 4\n10:15 AM 12:15 PM Speech Pattern A Round 2 / Parli Round 3 & 4\n11:30 AM 1:00 PM Pre-paid lunch pick up\n12:15 PM 2:00 PM TP Debate Round 5\n2:00 PM 3:00 PM LD Debate Round 5\n3:00 PM 4:00 PM Parli Semi Final Round\n4:00 PM 5:45 PM TP Debate Round 6\n5:45 PM 6:45 PM LD Debate Round 6\n6:45 PM 7:00 PM Extemp Draw\n7:00 PM 9:00 PM Speech Pattern B Round 2\n\nAPRIL 1st\n\nStarts Ends Name\n7:15 AM 8:00 AM Announce All Breaks (Speech\, Parli\, TP\, LD)\n8:00 AM 9:45 AM Debate Outround (TP Double-Octs\, LD Octs)\n9:45 AM 10:00 AM Extemp Draw\n10:00 AM 12:00 AM Speech Semi-final (and Possible Parli Final)\n11:30 AM 1:00 PM Pre paid lunch pick up\n12:00 PM 12:15 PM Announce Debate Breaks\n12:15 PM 2:00 PM Debate Outround (TP Octs\, LD Quarters)\n2:00 PM 2:15 PM Announce Speech Finals\n2:15 PM 2:30 PM Extemp Draw\n2:30 PM 4:30 PM Speech Final Round (and possible Parli Final)\n4:30 PM 4:45 PM Announce Debate Breaks\n4:45 PM 6:30 PM Debate Outround (TP quarters\, LD Semi) (possible Parli Final)\n7:00 PM 9:00 PM Awards Ceremony\nContact : 	\nPhone : 	209-652-6649\nEmail : 	\nWeb Site :
X-ALT-DESC;FMTTYPE=text/html:Three day Speech & Debate Tournament held at the Big Valley Christian School\, 4040 Tully Road.\n\nSchedule:\n\nMARCH 30th\n\nStarts Ends Name\n7:00 AM 7:45 AM Check In\n7:00 AM 10:00 AM Script Submission\n7:45 AM 7:45 AM Post Round 1\n8:00 AM 9:45 AM TP Debate Round 1\n9:45 AM 10:45 AM LD Debate Round 1\n10:45 AM 12:45 PM Speech Pattern A Round 1/ Parli Debate RD 1 & 2\n11:30 AM 1:30 PM Pre-paid lunch pick up\n12:45 PM 2:30 PM TP Debate Round 2\n2:30 PM 3:30 PM LD Debate Round 2\n3:30 PM 3:45 PM Extemp Draw\n3:45 PM 5:45 PM Speech Pattern B Round 1\n5:45 PM 7:30 PM TP Debate Round 3\n7:30 PM 8:30 PM LD Debate Round 3\n\nMARCH 31st\n\nStarts Ends Name\n7:15 AM 7:15 AM Postings go up\n7:30 AM 9:15 AM TP Debate Round 4\n9:15 AM 10:15 AM LD Debate Round 4\n10:15 AM 12:15 PM Speech Pattern A Round 2 / Parli Round 3 & 4\n11:30 AM 1:00 PM Pre-paid lunch pick up\n12:15 PM 2:00 PM TP Debate Round 5\n2:00 PM 3:00 PM LD Debate Round 5\n3:00 PM 4:00 PM Parli Semi Final Round\n4:00 PM 5:45 PM TP Debate Round 6\n5:45 PM 6:45 PM LD Debate Round 6\n6:45 PM 7:00 PM Extemp Draw\n7:00 PM 9:00 PM Speech Pattern B Round 2\n\nAPRIL 1st\n\nStarts Ends Name\n7:15 AM 8:00 AM Announce All Breaks (Speech\, Parli\, TP\, LD)\n8:00 AM 9:45 AM Debate Outround (TP Double-Octs\, LD Octs)\n9:45 AM 10:00 AM Extemp Draw\n10:00 AM 12:00 AM Speech Semi-final (and Possible Parli Final)\n11:30 AM 1:00 PM Pre paid lunch pick up\n12:00 PM 12:15 PM Announce Debate Breaks\n12:15 PM 2:00 PM Debate Outround (TP Octs\, LD Quarters)\n2:00 PM 2:15 PM Announce Speech Finals\n2:15 PM 2:30 PM Extemp Draw\n2:30 PM 4:30 PM Speech Final Round (and possible Parli Final)\n4:30 PM 4:45 PM Announce Debate Breaks\n4:45 PM 6:30 PM Debate Outround (TP quarters\, LD Semi) (possible Parli Final)\n7:00 PM 9:00 PM Awards Ceremony\nContact : 	\nPhone : 	209-652-6649\nEmail : 	\nWeb Site :
LOCATION:Big Valley Christian School 4040 Tully Road Modesto\, CA 95356
UID:e.2695.1606
SEQUENCE:3
DTSTAMP:20260419T141410Z
URL:https://business.modchamber.org/events/details/heart-of-the-valley-speech-debate-tournament-03-30-2016-1606
END:VEVENT

END:VCALENDAR
