BEGIN:VCALENDAR
VERSION:2.0
PRODID:-//ChamberMaster//Event Calendar 2.0//EN
METHOD:PUBLISH
X-PUBLISHED-TTL:P3D
REFRESH-INTERVAL:P3D
CALSCALE:GREGORIAN
BEGIN:VEVENT
DTSTART:20160215T170000Z
DTEND:20160215T190000Z
X-MICROSOFT-CDO-ALLDAYEVENT:FALSE
SUMMARY:Heart of the Donor Brunch
DESCRIPTION:Please join us for a great fundraising event!\nBrunch\, testimonies\, choir and special message from\nExecutive Director Kevin Carroll.\nModesto Gospel Mission\n1400 Yosemite Boulevard\nModesto\nSeating is limited.\nPlease R.S.V.P. by\nFebruary 5\, 2016\nContact :	Modesto Gospel Mission\nPhone :	(209) 529-8259\nEmail :	\nWeb Site :
X-ALT-DESC;FMTTYPE=text/html:Please join us for a great fundraising event!\nBrunch\, testimonies\, choir and special message from\nExecutive Director Kevin Carroll.\nModesto Gospel Mission\n1400 Yosemite Boulevard\nModesto\nSeating is limited.\nPlease R.S.V.P. by\nFebruary 5\, 2016\nContact :	Modesto Gospel Mission\nPhone :	(209) 529-8259\nEmail :	\nWeb Site :	
LOCATION:Modesto Gospel Mission 1400 Yosemite Blvd. Modesto\, CA 95354
UID:e.2695.657
SEQUENCE:3
DTSTAMP:20260419T164759Z
URL:https://business.modchamber.org/events/details/heart-of-the-donor-brunch-02-15-2016-657
END:VEVENT

END:VCALENDAR
