BEGIN:VCALENDAR
VERSION:2.0
PRODID:-//ChamberMaster//Event Calendar 2.0//EN
METHOD:PUBLISH
X-PUBLISHED-TTL:P3D
REFRESH-INTERVAL:P3D
CALSCALE:GREGORIAN
BEGIN:VEVENT
DTSTART:20150911T183000Z
DTEND:20150911T200000Z
X-MICROSOFT-CDO-ALLDAYEVENT:FALSE
SUMMARY:Harvest Luncheon 2015
DESCRIPTION:Investing in the future of our area’s most prominent industry is the hallmark of this 54-year event.  Drawing upwards of 800 attendees\, Harvest Luncheon brings national\, state and local leaders of agriculture together with community leaders.  Previous keynote speakers include\, Governors Ronald Reagan and Pete Wilson and California Agriculture Commissioners Bill Lyons\, JR and A.G. Kawamura.  The lunch features Valley products like Mape’s Ranch tri-tip\, beans and locally grown produce.  Proceeds from the Harvest Luncheon are used exclusively for the Modesto Chamber of Commerce Voss-Berryhill Modesto Junior College Ag Scholarship Program.  See you at Graceada Park!
X-ALT-DESC;FMTTYPE=text/html:<P>&nbsp\;<SPAN lang=en-US style="FONT-SIZE: 10.5pt\; LINE-HEIGHT: 119%\; FONT-FAMILY: 'Franklin Gothic Book'\; mso-default-font-family: 'Franklin Gothic Book'\; mso-ascii-font-family: 'Franklin Gothic Book'\; mso-latin-font-family: 'Franklin Gothic Book'\; mso-greek-font-family: 'Franklin Gothic Book'\; mso-cyrillic-font-family: 'Franklin Gothic Book'\; mso-latinext-font-family: 'Franklin Gothic Book'\; language: en-US\; mso-ansi-language: en-US\; mso-ligatures: none">Investing in the future of our area’s most prominent industry is the hallmark of this 54-year event.<SPAN style="mso-spacerun: yes">&nbsp\; </SPAN>Drawing upwards of 800 attendees\, Harvest Luncheon brings national\, state and local leaders of agriculture together with community leaders.<SPAN style="mso-spacerun: yes">&nbsp\; </SPAN>Previous keynote speakers include\, Governors Ronald Reagan and Pete Wilson and California Agriculture Commissioners Bill Lyons\, JR and A.G. Kawamura.<SPAN style="mso-spacerun: yes">&nbsp\; </SPAN>The lunch features Valley products like Mape’s Ranch tri-tip\, beans and locally grown produce.<SPAN style="mso-spacerun: yes">&nbsp\; </SPAN>Proceeds from the Harvest Luncheon are used exclusively for the Modesto Chamber of Commerce Voss-Berryhill Modesto Junior College Ag Scholarship Program.<SPAN style="mso-spacerun: yes">&nbsp\; </SPAN>See you at Graceada Park!<SPAN style="mso-spacerun: yes">&nbsp\; </SPAN></SPAN></P><P><SPAN lang=en-US style="FONT-SIZE: 10.5pt\; LINE-HEIGHT: 119%\; FONT-FAMILY: 'Franklin Gothic Book'\; mso-default-font-family: 'Franklin Gothic Book'\; mso-ascii-font-family: 'Franklin Gothic Book'\; mso-latin-font-family: 'Franklin Gothic Book'\; mso-greek-font-family: 'Franklin Gothic Book'\; mso-cyrillic-font-family: 'Franklin Gothic Book'\; mso-latinext-font-family: 'Franklin Gothic Book'\; language: en-US\; mso-ansi-language: en-US\; mso-ligatures: none"><SPAN style="mso-spacerun: yes"></SPAN></SPAN>&nbsp\;</P><P><SPAN lang=en-US style="FONT-SIZE: 10.5pt\; LINE-HEIGHT: 119%\; FONT-FAMILY: 'Franklin Gothic Book'\; mso-default-font-family: 'Franklin Gothic Book'\; mso-ascii-font-family: 'Franklin Gothic Book'\; mso-latin-font-family: 'Franklin Gothic Book'\; mso-greek-font-family: 'Franklin Gothic Book'\; mso-cyrillic-font-family: 'Franklin Gothic Book'\; mso-latinext-font-family: 'Franklin Gothic Book'\; language: en-US\; mso-ansi-language: en-US\; mso-ligatures: none"><SPAN style="mso-spacerun: yes"></SPAN><?xml:namespace prefix = o ns = "urn:schemas-microsoft-com:office:office" /><o:p></o:p></SPAN>&nbsp\;</P><P class=MsoNormal style="mso-pagination: none"><SPAN lang=en-US style="language: en-US\; mso-ligatures: none">&nbsp\;<o:p></o:p></SPAN></P>
LOCATION:Graceada Park 401 Needham St. Modesto\, CA\, 95354
UID:e.2695.609
SEQUENCE:3
DTSTAMP:20260420T003052Z
URL:https://business.modchamber.org/events/details/harvest-luncheon-2015-09-11-2015-609
END:VEVENT

END:VCALENDAR
