BEGIN:VCALENDAR
VERSION:2.0
PRODID:-//ChamberMaster//Event Calendar 2.0//EN
METHOD:PUBLISH
X-PUBLISHED-TTL:P3D
REFRESH-INTERVAL:P3D
CALSCALE:GREGORIAN
BEGIN:VEVENT
DTSTART:20140912T183000Z
DTEND:20140912T200000Z
X-MICROSOFT-CDO-ALLDAYEVENT:FALSE
SUMMARY:Harvest Luncheon 2014
DESCRIPTION:Investing in our largest industry’s future is the hallmark for this 53-year event. A guaranteed sell out event of 800\, Harvest Luncheon draws national\, state and local leaders together. The lunch features Valley products like Mape’s Ranch tri-tip\, beans and locally grown produce. Proceeds from the Harvest Luncheon are used exclusively for the Modesto Chamber of Commerce Voss/Berryhill Modesto Junior College Ag Scholarship Program. See you at Graceada Park! Register Online to reserve tickets\, premier sponsorships and table sponsorships or contact the Chamber for more information 209.577.5757.
X-ALT-DESC;FMTTYPE=text/html:Investing in our largest industry’s future is the hallmark for this 53-year event. A guaranteed sell out event of 800\, Harvest Luncheon draws national\, state and local leaders together. The lunch features Valley products like Mape’s Ranch tri-tip\, beans and locally grown produce. Proceeds from the Harvest Luncheon are used exclusively for the Modesto Chamber of Commerce Voss/Berryhill Modesto Junior College Ag Scholarship Program. See you at Graceada Park! Register Online to reserve tickets\, premier sponsorships and table sponsorships or contact the Chamber for more information 209.577.5757.
LOCATION:Graceada Park 401 Needham St. Modesto\, CA\, 95354
UID:e.2695.490
SEQUENCE:3
DTSTAMP:20260422T180536Z
URL:https://business.modchamber.org/events/details/harvest-luncheon-2014-09-12-2014-490
END:VEVENT

END:VCALENDAR
