BEGIN:VCALENDAR
VERSION:2.0
PRODID:-//ChamberMaster//Event Calendar 2.0//EN
METHOD:PUBLISH
X-PUBLISHED-TTL:P3D
REFRESH-INTERVAL:P3D
CALSCALE:GREGORIAN
BEGIN:VEVENT
DTSTART:20151223T200000Z
DTEND:20151223T080000Z
X-MICROSOFT-CDO-ALLDAYEVENT:FALSE
SUMMARY:HAPPY BIRTHDAY JESUS PARTY - Modesto Gospel Mission
DESCRIPTION:On Christmas Eve Eve celebrate Jesus’ birthday with a Christmas dinner and Christmas gifts to everyone who attendes – from infants to adults. This event on Wednesday\, December 23rd starts at noon\, but people line up early!\nContact :	Modesto Gospel Mission\nPhone :	209-529-8259\nEmail :	\nWeb Site :
X-ALT-DESC;FMTTYPE=text/html:On Christmas Eve Eve celebrate Jesus’ birthday with a Christmas dinner and Christmas gifts to everyone who attendes – from infants to adults. This event on Wednesday\, December 23rd starts at noon\, but people line up early!\nContact :	Modesto Gospel Mission\nPhone :	209-529-8259\nEmail :	\nWeb Site :	
LOCATION:Modesto Gospel Mission 1400 Yosemite Blvd Modesto\, CA 95351
UID:e.2695.1326
SEQUENCE:3
DTSTAMP:20260419T191231Z
URL:https://business.modchamber.org/events/details/happy-birthday-jesus-party-modesto-gospel-mission-12-23-2015-1326
END:VEVENT

END:VCALENDAR
