BEGIN:VCALENDAR
VERSION:2.0
PRODID:-//ChamberMaster//Event Calendar 2.0//EN
METHOD:PUBLISH
X-PUBLISHED-TTL:P3D
REFRESH-INTERVAL:P3D
CALSCALE:GREGORIAN
BEGIN:VEVENT
DTSTART:20151010T170000Z
DTEND:20151010T220000Z
X-MICROSOFT-CDO-ALLDAYEVENT:FALSE
SUMMARY:Halloween Home Tour Omega Nu
DESCRIPTION:Tour four decorated homes of Halloween collectors. Contact your favorite Omega Nu Member to purchase tickets.\n\nTickets $35.00\nContact :	Omega Nu\nPhone :	209-606-9033\nEmail :	\nWeb Site :	www.omeganumodesto.org
X-ALT-DESC;FMTTYPE=text/html:Tour four decorated homes of Halloween collectors. Contact your favorite Omega Nu Member to purchase tickets.\n\nTickets $35.00\nContact :	Omega Nu\nPhone :	209-606-9033\nEmail :	\nWeb Site :	www.omeganumodesto.org
LOCATION:Various Modesto Homes
UID:e.2695.1218
SEQUENCE:3
DTSTAMP:20260419T214805Z
URL:https://business.modchamber.org/events/details/halloween-home-tour-omega-nu-10-10-2015-1218
END:VEVENT

END:VCALENDAR
