BEGIN:VCALENDAR
VERSION:2.0
PRODID:-//ChamberMaster//Event Calendar 2.0//EN
METHOD:PUBLISH
X-PUBLISHED-TTL:P3D
REFRESH-INTERVAL:P3D
CALSCALE:GREGORIAN
BEGIN:VEVENT
DTSTART:20160409T023000Z
DTEND:20160408T070000Z
X-MICROSOFT-CDO-ALLDAYEVENT:FALSE
SUMMARY:Halfpence Band & Haypenny Band
DESCRIPTION:With influences from Medieval Europe to the back cabins of Appalachia\,\nHalfpence & Haypenny take you on an auditory tour that weaves bardic storytelling with the folk traditions. Sultry and powerful vocals\, combined with a multi-instrumental array\, create the trioâ€™s compelling sound.\n\nCooking With Turf is a trio of friends who share a long experience of playing Celtic traditional music. They mainly present Irish and Scottish tunes\, but also have a repertoire of Canadian\, New England\, Appalachian\, British\, Breton and Galician traditional music as well.\n\n$15 general admission / kids 12 and under free\nContact : 	Modesto Unplugged\nPhone : 	209-543-5306\nEmail : 	\nWeb Site : 	www.modestounplugged.com
X-ALT-DESC;FMTTYPE=text/html:With influences from Medieval Europe to the back cabins of Appalachia\,\nHalfpence & Haypenny take you on an auditory tour that weaves bardic storytelling with the folk traditions. Sultry and powerful vocals\, combined with a multi-instrumental array\, create the trioâ€™s compelling sound.\n\nCooking With Turf is a trio of friends who share a long experience of playing Celtic traditional music. They mainly present Irish and Scottish tunes\, but also have a repertoire of Canadian\, New England\, Appalachian\, British\, Breton and Galician traditional music as well.\n\n$15 general admission / kids 12 and under free\nContact : 	Modesto Unplugged\nPhone : 	209-543-5306\nEmail : 	\nWeb Site : 	www.modestounplugged.com\n\n
LOCATION:Gottschalk Music Center 1502 E Street Modesto\, CA 95354
UID:e.2695.1578
SEQUENCE:3
DTSTAMP:20260419T141130Z
URL:https://business.modchamber.org/events/details/halfpence-band-haypenny-band-04-08-2016-1578
END:VEVENT

END:VCALENDAR
