BEGIN:VCALENDAR
VERSION:2.0
PRODID:-//ChamberMaster//Event Calendar 2.0//EN
METHOD:PUBLISH
X-PUBLISHED-TTL:P3D
REFRESH-INTERVAL:P3D
CALSCALE:GREGORIAN
BEGIN:VEVENT
DTSTART:20150816T210000Z
DTEND:20150816T070000Z
X-MICROSOFT-CDO-ALLDAYEVENT:FALSE
SUMMARY:Guys And Dolls
DESCRIPTION:Guys and Dolls is a musical with music and lyrics by Frank Loesser and book by Jo Swerling and Abe Burrows. It is based on The Idyll of Miss Sarah Brown and Blood Pressure – two short stories by Damon Runyon\, – and also borrows characters and plot elements from other Runyon stories – most notably Pick the Winner.\nContact :	Gallo Center\nPhone :	209-338-2100\nEmail :	\nWeb Site :	galloarts.org
X-ALT-DESC;FMTTYPE=text/html:Guys and Dolls is a musical with music and lyrics by Frank Loesser and book by Jo Swerling and Abe Burrows. It is based on The Idyll of Miss Sarah Brown and Blood Pressure – two short stories by Damon Runyon\, – and also borrows characters and plot elements from other Runyon stories – most notably Pick the Winner.\nContact :	Gallo Center\nPhone :	209-338-2100\nEmail :	\nWeb Site :	galloarts.org
LOCATION:Gallo Center 1000 I St Modesto\, CA 95354
UID:e.2695.1055
SEQUENCE:3
DTSTAMP:20260420T015302Z
URL:https://business.modchamber.org/events/details/guys-and-dolls-08-16-2015-1055
END:VEVENT

END:VCALENDAR
