BEGIN:VCALENDAR
VERSION:2.0
PRODID:-//ChamberMaster//Event Calendar 2.0//EN
METHOD:PUBLISH
X-PUBLISHED-TTL:P3D
REFRESH-INTERVAL:P3D
CALSCALE:GREGORIAN
BEGIN:VEVENT
DTSTART:20150621T020500Z
DTEND:20150620T070000Z
X-MICROSOFT-CDO-ALLDAYEVENT:FALSE
SUMMARY:Graffiti Night with the Modesto Nuts
DESCRIPTION:Take me out to the ballgame to enjoy action packed baseball\, 50’s and 60’s music\, root beer floats and fun contests. Modesto Nuts take on the High Dessert Mavericks. Game time 7:05pm. Fireworks after the game.\nContact :	Modesto Nuts\nPhone :	572-4487\nEmail :	\nWeb Site :	www.modestonuts.com
X-ALT-DESC;FMTTYPE=text/html:Take me out to the ballgame to enjoy action packed baseball\, 50’s and 60’s music\, root beer floats and fun contests. Modesto Nuts take on the High Dessert Mavericks. Game time 7:05pm. Fireworks after the game.\nContact :	Modesto Nuts\nPhone :	572-4487\nEmail :	\nWeb Site :	www.modestonuts.com
LOCATION:John Thurman Field 601 Neece Dr Modesto\, CA 95351
UID:e.2695.1009
SEQUENCE:3
DTSTAMP:20260420T032557Z
URL:https://business.modchamber.org/events/details/graffiti-night-with-the-modesto-nuts-06-20-2015-1009
END:VEVENT

END:VCALENDAR
