BEGIN:VCALENDAR
VERSION:2.0
PRODID:-//ChamberMaster//Event Calendar 2.0//EN
METHOD:PUBLISH
X-PUBLISHED-TTL:P3D
REFRESH-INTERVAL:P3D
CALSCALE:GREGORIAN
BEGIN:VEVENT
DTSTART:20160228T010000Z
DTEND:20160227T080000Z
X-MICROSOFT-CDO-ALLDAYEVENT:FALSE
SUMMARY:Grace Lutheran Church's 4th Annual Crab Feed
DESCRIPTION:$50 in advance • $55 at the door\nContact :	Grace Lutheran Church\nPhone :	209.522.8890\nEmail :	\nWeb Site :
X-ALT-DESC;FMTTYPE=text/html:$50 in advance • $55 at the door\nContact :	Grace Lutheran Church\nPhone :	209.522.8890\nEmail :	\nWeb Site :	
LOCATION:Grace Luthern Church 617 W. Orangeburg Ave Modesto\, CA 95356
UID:e.2695.1418
SEQUENCE:3
DTSTAMP:20260419T164816Z
URL:https://business.modchamber.org/events/details/grace-lutheran-church-s-4th-annual-crab-feed-02-27-2016-1418
END:VEVENT

END:VCALENDAR
