BEGIN:VCALENDAR
VERSION:2.0
PRODID:-//ChamberMaster//Event Calendar 2.0//EN
METHOD:PUBLISH
X-PUBLISHED-TTL:P3D
REFRESH-INTERVAL:P3D
CALSCALE:GREGORIAN
BEGIN:VEVENT
DTSTART:20160214T230000Z
DTEND:20160214T080000Z
X-MICROSOFT-CDO-ALLDAYEVENT:FALSE
SUMMARY:Grace Lieberman & Friends
DESCRIPTION:The Best Time You Can Have on Valentine’s Day!\n\nGrace and her supremely talented friends from the Modesto Area have brought us Valentine joy since the turn of the 21st Century. Love songs are on the menu\, as well as Grace’s hand-done valentines and sing-a-longs\, all salted and peppered by Grace’s charm and wit. Bring your valentine for a special afternoon.\nContact :	\nPhone :	209-571-6060\nEmail :	\nWeb Site :	http://sundaysatcbs.com/
X-ALT-DESC;FMTTYPE=text/html:The Best Time You Can Have on Valentine’s Day!\n\nGrace and her supremely talented friends from the Modesto Area have brought us Valentine joy since the turn of the 21st Century. Love songs are on the menu\, as well as Grace’s hand-done valentines and sing-a-longs\, all salted and peppered by Grace’s charm and wit. Bring your valentine for a special afternoon.\nContact :	\nPhone :	209-571-6060\nEmail :	\nWeb Site :	http://sundaysatcbs.com/
LOCATION:Congregation Beth Shalom 1705 Sherwood Ave Modesto\, CA 95355
UID:e.2695.656
SEQUENCE:3
DTSTAMP:20260419T164442Z
URL:https://business.modchamber.org/events/details/grace-lieberman-friends-02-14-2016-656
END:VEVENT

END:VCALENDAR
