BEGIN:VCALENDAR
VERSION:2.0
PRODID:-//ChamberMaster//Event Calendar 2.0//EN
METHOD:PUBLISH
X-PUBLISHED-TTL:P3D
REFRESH-INTERVAL:P3D
CALSCALE:GREGORIAN
BEGIN:VEVENT
DTSTART:20140509T170000Z
DTEND:20140509T203000Z
X-MICROSOFT-CDO-ALLDAYEVENT:FALSE
SUMMARY:Go Red for Women Luncheon
DESCRIPTION:The Go Red for Women Luncheon helps support awareness\, research\, education and community programs to benefit women.\n\nThese funds allow us to help women by offering educational programs\, advancing women’s understanding about their risk for heart disease and providing tools and motivation to help women reduce their risk to protect their health.
X-ALT-DESC;FMTTYPE=text/html:The Go Red for Women Luncheon helps support awareness\, research\, education and community programs to benefit women.\n\nThese funds allow us to help women by offering educational programs\, advancing women’s understanding about their risk for heart disease and providing tools and motivation to help women reduce their risk to protect their health.\n
LOCATION:Double Tree Hotel by Hilton 1150 9th Street Modesto\, CA 95354
UID:e.2695.457
SEQUENCE:3
DTSTAMP:20260423T002800Z
URL:https://business.modchamber.org/events/details/go-red-for-women-luncheon-05-09-2014-457
END:VEVENT

END:VCALENDAR
