BEGIN:VCALENDAR
VERSION:2.0
PRODID:-//ChamberMaster//Event Calendar 2.0//EN
METHOD:PUBLISH
X-PUBLISHED-TTL:P3D
REFRESH-INTERVAL:P3D
CALSCALE:GREGORIAN
BEGIN:VEVENT
DTSTART:20160506T170000Z
DTEND:20160506T203000Z
X-MICROSOFT-CDO-ALLDAYEVENT:FALSE
SUMMARY:Go Red For Women Luncheon
DESCRIPTION:We Go Red! \nLet’s unite to prevent heart disease and stroke.\n\nOur mothers\, daughters\, sisters and friends are at risk. Heart disease and stroke cause 1 in 3 deaths among women each year – more than all cancers combined. Fortunately\, we can change that because 80 percent of cardiac events can be prevented with education and lifestyle changes. \n\nGet informed about the risks of heart disease and stroke. Know the red flags. Know your heart health story. Go Red For Women inspires women to make lifestyle changes\, mobilize communities\, and shape policies to save lives. United\, we are working to improve the health of women in your community. \nIt’s time to put our hearts into it and Go Red For Women\, so please join us at this year’s luncheon.\n\nContact :	Go Red Modesto Office:\nPhone :	209-477-2683\nEmail :	\nWeb Site :	http://modestogoredluncheon.ahaevents.org/.
X-ALT-DESC;FMTTYPE=text/html:We Go Red! \nLet’s unite to prevent heart disease and stroke.\n\nOur mothers\, daughters\, sisters and friends are at risk. Heart disease and stroke cause 1 in 3 deaths among women each year – more than all cancers combined. Fortunately\, we can change that because 80 percent of cardiac events can be prevented with education and lifestyle changes. \n\nGet informed about the risks of heart disease and stroke. Know the red flags. Know your heart health story. Go Red For Women inspires women to make lifestyle changes\, mobilize communities\, and shape policies to save lives. United\, we are working to improve the health of women in your community. \nIt’s time to put our hearts into it and Go Red For Women\, so please join us at this year’s luncheon.\n\nContact :	Go Red Modesto Office:\nPhone :	209-477-2683\nEmail :	\nWeb Site :	http://modestogoredluncheon.ahaevents.org/.\n
LOCATION:Centre Plaza 1000 L Street Modesto\, CA 95354
UID:e.2695.1549
SEQUENCE:3
DTSTAMP:20260419T141222Z
URL:https://business.modchamber.org/events/details/go-red-for-women-luncheon-05-06-2016-1549
END:VEVENT

END:VCALENDAR
