BEGIN:VCALENDAR
VERSION:2.0
PRODID:-//ChamberMaster//Event Calendar 2.0//EN
METHOD:PUBLISH
X-PUBLISHED-TTL:P3D
REFRESH-INTERVAL:P3D
CALSCALE:GREGORIAN
BEGIN:VEVENT
DTSTART:20150824T010000Z
DTEND:20150823T070000Z
X-MICROSOFT-CDO-ALLDAYEVENT:FALSE
SUMMARY:Gloria Trevi
DESCRIPTION:EL AMOR WORLD TOUR\n\nKnown as the "Supreme Diva of Mexican Pop\,” Gloria Trevi has sold more than 20 million records. The controversial singer is not only sexually provocative\, she also uses her music and videos to deal frankly with issues including religion\, homelessness\, drug trafficking\, hunger\, the upper class\, and violence against women. Trevi is embarking on her "El Amor World Tour" and the Gallo Center will be one of just three venues in California to host this explosively entertaining performer! \nVIP\nGloria Trevi - VIP Meet & Greet Package\n\n$125 VIP Tickets + $79 Ticket ($204 Total) including a Meet & Greet. VIP tickets are not available online. Please call 209-338-2100 or visit our Ticket Office in downtown Modesto. \n\nPackage includes:\nPremium or General Admission Ticket to the Show\nPhoto Meet & Greet with Gloria Trevi\n$25 Gift Certificate to the Official Online Store\nSigned Collectible Poster\nCollectible VIP Laminate
X-ALT-DESC;FMTTYPE=text/html:EL AMOR WORLD TOUR\n\nKnown as the "Supreme Diva of Mexican Pop\,” Gloria Trevi has sold more than 20 million records. The controversial singer is not only sexually provocative\, she also uses her music and videos to deal frankly with issues including religion\, homelessness\, drug trafficking\, hunger\, the upper class\, and violence against women. Trevi is embarking on her "El Amor World Tour" and the Gallo Center will be one of just three venues in California to host this explosively entertaining performer! \nVIP\nGloria Trevi - VIP Meet & Greet Package\n\n$125 VIP Tickets + $79 Ticket ($204 Total) including a Meet & Greet. VIP tickets are not available online. Please call 209-338-2100 or visit our Ticket Office in downtown Modesto. \n\nPackage includes:\nPremium or General Admission Ticket to the Show\nPhoto Meet & Greet with Gloria Trevi\n$25 Gift Certificate to the Official Online Store\nSigned Collectible Poster\nCollectible VIP Laminate\n
LOCATION:Gallo Center 1000 I St Modesto\, CA 95354
UID:e.2695.1129
SEQUENCE:3
DTSTAMP:20260420T002939Z
URL:https://business.modchamber.org/events/details/gloria-trevi-08-23-2015-1129
END:VEVENT

END:VCALENDAR
