BEGIN:VCALENDAR
VERSION:2.0
PRODID:-//ChamberMaster//Event Calendar 2.0//EN
METHOD:PUBLISH
X-PUBLISHED-TTL:P3D
REFRESH-INTERVAL:P3D
CALSCALE:GREGORIAN
BEGIN:VEVENT
DTSTART:20160228T040000Z
DTEND:20160227T080000Z
X-MICROSOFT-CDO-ALLDAYEVENT:FALSE
SUMMARY:Girls Night: The Musical
DESCRIPTION:See the Off-Broadway sensation that audiences can’t get enough of from coast to coast! Share the fun and laughter in this hilarious\, feel-good comedy as five girlfriends re-live their past\, celebrate their present\, and look to the future on a wild night out! Featuring the most famous female empowerment hits of the last four decades including “Lady Marmalade\,” “It’s Raining Men\,” “Man I Feel Like a Woman\,” “I Will Survive\,” and many more. This show is like “Desperate Housewives” meets “Mamma Mia!”\nContact :	Gallo Center\nPhone :	209-338-2100\nEmail :	\nWeb Site :	galloarts.org
X-ALT-DESC;FMTTYPE=text/html:See the Off-Broadway sensation that audiences can’t get enough of from coast to coast! Share the fun and laughter in this hilarious\, feel-good comedy as five girlfriends re-live their past\, celebrate their present\, and look to the future on a wild night out! Featuring the most famous female empowerment hits of the last four decades including “Lady Marmalade\,” “It’s Raining Men\,” “Man I Feel Like a Woman\,” “I Will Survive\,” and many more. This show is like “Desperate Housewives” meets “Mamma Mia!”\nContact :	Gallo Center\nPhone :	209-338-2100\nEmail :	\nWeb Site :	galloarts.org
LOCATION:Gallo Center 1000 I Street Modesto\, CA 95354
UID:e.2695.1431
SEQUENCE:3
DTSTAMP:20260419T164836Z
URL:https://business.modchamber.org/events/details/girls-night-the-musical-02-27-2016-1431
END:VEVENT

END:VCALENDAR
