BEGIN:VCALENDAR
VERSION:2.0
PRODID:-//ChamberMaster//Event Calendar 2.0//EN
METHOD:PUBLISH
X-PUBLISHED-TTL:P3D
REFRESH-INTERVAL:P3D
CALSCALE:GREGORIAN
BEGIN:VEVENT
DTSTART:20140321T063000Z
DTEND:20140320T194500Z
X-MICROSOFT-CDO-ALLDAYEVENT:FALSE
SUMMARY:Getting Barefoot: Delivering a Different Kind of Gallo Wine Experience
DESCRIPTION:Creating a whole new kind of experience was key for E & J Gallo Winery to building the Barefoot Wine and Bubbly brands.  Hear from Stephanie Gallo as she talks in-depth about the approach the company took to build the number-one selling wine brand in the United States.
X-ALT-DESC;FMTTYPE=text/html:Creating a whole new kind of experience was key for E & J Gallo Winery to building the Barefoot Wine and Bubbly brands.  Hear from Stephanie Gallo as she talks in-depth about the approach the company took to build the number-one selling wine brand in the United States.
LOCATION:Community Hospice\, Inc. 4368 Spyres Way Modesto\, CA 95356
UID:e.2695.409
SEQUENCE:3
DTSTAMP:20260423T044108Z
URL:https://business.modchamber.org/events/details/getting-barefoot-delivering-a-different-kind-of-gallo-wine-experience-03-20-2014-409
END:VEVENT

END:VCALENDAR
