BEGIN:VCALENDAR
VERSION:2.0
PRODID:-//ChamberMaster//Event Calendar 2.0//EN
METHOD:PUBLISH
X-PUBLISHED-TTL:P3D
REFRESH-INTERVAL:P3D
CALSCALE:GREGORIAN
BEGIN:VEVENT
DTSTART:20150317T180000Z
DTEND:20150318T020000Z
X-MICROSOFT-CDO-ALLDAYEVENT:FALSE
SUMMARY:Gervasoni's St. Patrick's Day Celebration
DESCRIPTION:Live Music\, Corned Beef and Cabbage\, Drink specials.\nContact :	Gervasoni's\nPhone :	(209) 523-1961\nEmail :	\nWeb Site :
X-ALT-DESC;FMTTYPE=text/html:Live Music\, Corned Beef and Cabbage\, Drink specials.\nContact :	Gervasoni's\nPhone :	(209) 523-1961\nEmail :	\nWeb Site :
LOCATION:Gervasoni's 712 9th Street Modesto\, CA 95354
UID:e.2695.799
SEQUENCE:3
DTSTAMP:20260420T073856Z
URL:https://business.modchamber.org/events/details/gervasoni-s-st-patrick-s-day-celebration-03-17-2015-799
END:VEVENT

END:VCALENDAR
