BEGIN:VCALENDAR
VERSION:2.0
PRODID:-//ChamberMaster//Event Calendar 2.0//EN
METHOD:PUBLISH
X-PUBLISHED-TTL:P3D
REFRESH-INTERVAL:P3D
CALSCALE:GREGORIAN
BEGIN:VEVENT
DTSTART:20151003T030000Z
DTEND:20151002T070000Z
X-MICROSOFT-CDO-ALLDAYEVENT:FALSE
SUMMARY:GERSHWIN & BERNSTEIN Modesto Symphony Orchestra
DESCRIPTION:CLASSICS SERIES\nGERSHWIN & BERNSTEIN \n\nDavid Lockington\, conductor\nLlewellyn Sanchez-Werner\, piano\n\nProgram:\nNorman · Drip Blip Sparkle Spin Glint Glide Glow Float Flop Chop Pop Shatter Splash*\nGershwin · Concerto for Piano in F Major \nBernstein · West Side Story: Symphonic Dances \n\nJoin us for a celebration 85 years in the making\, as we commemorate eight and a half decades of enriching lives through music. The night starts with a premiere from contemporary composer and Modesto Symphony Youth Orchestra alumnus\, Andrew Norman. Llewellyn Sanchez-Werner\, a 2014 Gilmore Young Artist award winner\, heats things up as he takes to the piano for Gershwin’s ragtime themed Concerto in F. We wrap up the evening with Bernstein’s West Side Story depicting the urban retelling of Romeo and Juliet’s epic enduring love. \nContact :	Gallo Center\nPhone :	209-338-2100\nEmail :	\nWeb Site :	galloarts.org
X-ALT-DESC;FMTTYPE=text/html:CLASSICS SERIES\nGERSHWIN & BERNSTEIN \n\nDavid Lockington\, conductor\nLlewellyn Sanchez-Werner\, piano\n\nProgram:\nNorman · Drip Blip Sparkle Spin Glint Glide Glow Float Flop Chop Pop Shatter Splash*\nGershwin · Concerto for Piano in F Major \nBernstein · West Side Story: Symphonic Dances \n\nJoin us for a celebration 85 years in the making\, as we commemorate eight and a half decades of enriching lives through music. The night starts with a premiere from contemporary composer and Modesto Symphony Youth Orchestra alumnus\, Andrew Norman. Llewellyn Sanchez-Werner\, a 2014 Gilmore Young Artist award winner\, heats things up as he takes to the piano for Gershwin’s ragtime themed Concerto in F. We wrap up the evening with Bernstein’s West Side Story depicting the urban retelling of Romeo and Juliet’s epic enduring love. \nContact :	Gallo Center\nPhone :	209-338-2100\nEmail :	\nWeb Site :	galloarts.org
LOCATION:Gallo Center 1000 I St Modesto\, CA 95354
UID:e.2695.1207
SEQUENCE:3
DTSTAMP:20260419T214611Z
URL:https://business.modchamber.org/events/details/gershwin-bernstein-modesto-symphony-orchestra-10-02-2015-1207
END:VEVENT

END:VCALENDAR
