BEGIN:VCALENDAR
VERSION:2.0
PRODID:-//ChamberMaster//Event Calendar 2.0//EN
METHOD:PUBLISH
X-PUBLISHED-TTL:P3D
REFRESH-INTERVAL:P3D
CALSCALE:GREGORIAN
BEGIN:VEVENT
DTSTART:20160101T020000Z
DTEND:20151231T080000Z
X-MICROSOFT-CDO-ALLDAYEVENT:FALSE
SUMMARY:GALLETTO’S NYE CELEBRATION
DESCRIPTION:Live food action stations\, live music & a DJ!\nContact :	Galletto Ristorante\nPhone :	523-4500\nEmail :	\nWeb Site :
X-ALT-DESC;FMTTYPE=text/html:Live food action stations\, live music & a DJ!\nContact :	Galletto Ristorante\nPhone :	523-4500\nEmail :	\nWeb Site :	
LOCATION:Galletto Ristorante 1101 J St Modesto\, CA 95354
UID:e.2695.1329
SEQUENCE:3
DTSTAMP:20260419T190852Z
URL:https://business.modchamber.org/events/details/galletto-s-nye-celebration-12-31-2015-1329
END:VEVENT

END:VCALENDAR
