BEGIN:VCALENDAR
VERSION:2.0
PRODID:-//ChamberMaster//Event Calendar 2.0//EN
METHOD:PUBLISH
X-PUBLISHED-TTL:P3D
REFRESH-INTERVAL:P3D
CALSCALE:GREGORIAN
BEGIN:VEVENT
DTSTART:20150809T030000Z
DTEND:20150808T070000Z
X-MICROSOFT-CDO-ALLDAYEVENT:FALSE
SUMMARY:Gabriel ''Fluffy'' Iglesias
DESCRIPTION:Gabriel Iglesias has been described as a witty\, electrifying and talented performer\, who has the ability to consistently deliver a uniquely hilarious comedy experience.  His high-octane show is a sure-fire hit: a mixture of storytelling\, parodies\, characters and sound effects that bring all his personal experiences to life. \n\nCaution: This show does contain some mature content\, but no profanity. \nThis performance at the Gallo Center has been rescheduled from Sunday\, August 30 to Saturday\, August 8\, with shows at 5 pm and 8 pm.\n\nIf you already have tickets for the originally scheduled performance\, they will be honored on August 8. It is not necessary to exchange your tickets. However\, please call the Gallo Center ticket office at (209) 338-2100 to confirm your seats.\n\nIf you are unable to attend the rescheduled performance\, you may:\nExchange your tickets for another show\nReceive a gift certificate for the same value that you may apply to a future show\nGet a full refund\nFor any of the options above\, you must return your tickets to Gallo Center ticket office by June 30. For questions or more information\, please call (209) 338-2100. Thanks for your patience and understanding. Mr. Iglesias sends his apologies.
X-ALT-DESC;FMTTYPE=text/html:Gabriel Iglesias has been described as a witty\, electrifying and talented performer\, who has the ability to consistently deliver a uniquely hilarious comedy experience.  His high-octane show is a sure-fire hit: a mixture of storytelling\, parodies\, characters and sound effects that bring all his personal experiences to life. \n\nCaution: This show does contain some mature content\, but no profanity. \nThis performance at the Gallo Center has been rescheduled from Sunday\, August 30 to Saturday\, August 8\, with shows at 5 pm and 8 pm.\n\nIf you already have tickets for the originally scheduled performance\, they will be honored on August 8. It is not necessary to exchange your tickets. However\, please call the Gallo Center ticket office at (209) 338-2100 to confirm your seats.\n\nIf you are unable to attend the rescheduled performance\, you may:\nExchange your tickets for another show\nReceive a gift certificate for the same value that you may apply to a future show\nGet a full refund\nFor any of the options above\, you must return your tickets to Gallo Center ticket office by June 30. For questions or more information\, please call (209) 338-2100. Thanks for your patience and understanding. Mr. Iglesias sends his apologies.
LOCATION:Gallo Center 1000 I St Modesto\, CA 95354
UID:e.2695.1127
SEQUENCE:3
DTSTAMP:20260420T002952Z
URL:https://business.modchamber.org/events/details/gabriel-fluffy-iglesias-08-08-2015-1127
END:VEVENT

END:VCALENDAR
