BEGIN:VCALENDAR
VERSION:2.0
PRODID:-//ChamberMaster//Event Calendar 2.0//EN
METHOD:PUBLISH
X-PUBLISHED-TTL:P3D
REFRESH-INTERVAL:P3D
CALSCALE:GREGORIAN
BEGIN:VEVENT
DTSTART:20160326T160000Z
DTEND:20160326T070000Z
X-MICROSOFT-CDO-ALLDAYEVENT:FALSE
SUMMARY:Funworks Eggstravaganza
DESCRIPTION:Children 12 and younger are invited to hunt eggs at Funworks. Two staggered hunts — one for children aged 5 and younger\, one for 6 - 12 year olds — take place beginning at 9am. Other specials run throughout the day (free attractions\, tokens\, wristbands and coupons!). Freddy Foreman will also make a special appearance!\nContact : 	Funworks\nPhone : 	209-549-7888\nEmail : 	\nWeb Site :
X-ALT-DESC;FMTTYPE=text/html:Children 12 and younger are invited to hunt eggs at Funworks. Two staggered hunts — one for children aged 5 and younger\, one for 6 - 12 year olds — take place beginning at 9am. Other specials run throughout the day (free attractions\, tokens\, wristbands and coupons!). Freddy Foreman will also make a special appearance!\nContact : 	Funworks\nPhone : 	209-549-7888\nEmail : 	\nWeb Site :
LOCATION:Funworks 3407 Coffee Rd Modesto\, CA 95356
UID:e.2695.1601
SEQUENCE:3
DTSTAMP:20260419T152352Z
URL:https://business.modchamber.org/events/details/funworks-eggstravaganza-03-26-2016-1601
END:VEVENT

END:VCALENDAR
