BEGIN:VCALENDAR
VERSION:2.0
PRODID:-//ChamberMaster//Event Calendar 2.0//EN
METHOD:PUBLISH
X-PUBLISHED-TTL:P3D
REFRESH-INTERVAL:P3D
CALSCALE:GREGORIAN
BEGIN:VEVENT
DTSTART:20150304T020000Z
DTEND:20150303T080000Z
X-MICROSOFT-CDO-ALLDAYEVENT:FALSE
SUMMARY:Funstrummers Ukulele Play Along
DESCRIPTION:Funstrummers play and singalong. Songbooks are provided. 6pm. Donation asked but not required.\nContact :	\nPhone :	209-505-3216\nEmail :	\nWeb Site :
X-ALT-DESC;FMTTYPE=text/html:	Funstrummers play and singalong. Songbooks are provided. 6pm. Donation asked but not required.\nContact :	\nPhone :	209-505-3216\nEmail :	\nWeb Site :	
LOCATION:Trinity United Presbyterian Church 1600 Carver Road Modesto\, CA 95350
UID:e.2695.779
SEQUENCE:3
DTSTAMP:20260420T073840Z
URL:https://business.modchamber.org/events/details/funstrummers-ukulele-play-along-03-03-2015-779
END:VEVENT

END:VCALENDAR
