BEGIN:VCALENDAR
VERSION:2.0
PRODID:-//ChamberMaster//Event Calendar 2.0//EN
METHOD:PUBLISH
X-PUBLISHED-TTL:P3D
REFRESH-INTERVAL:P3D
CALSCALE:GREGORIAN
BEGIN:VEVENT
DTSTART:20140913T020000Z
DTEND:20140913T040000Z
X-MICROSOFT-CDO-ALLDAYEVENT:FALSE
SUMMARY:Fundraiser Kick Off - Northern California Women's Music Festival
DESCRIPTION:Northern California Women's Music Festival\, Present A Night of Music featuring: Karmen Buttler\, Rachel Efron\, Patty Castillo Davis\, Marirose Powell\, Mattea Overstreet\, Nina Jo\, Victoria Boyington\, and Sandy Almanza This is a fundraiser event for our upcoming concert October 18\, 2014. Please join us for Door Prizes\, Auction\, Hot Food\, and Good Music. See you there!
X-ALT-DESC;FMTTYPE=text/html:<P>Northern California Women's Music Festival\, Present A Night of Music featuring: Karmen Buttler\, Rachel Efron\, Patty Castillo Davis\, Marirose Powell\, Mattea Overstreet\, Nina Jo\, Victoria Boyington\, and Sandy Almanza </P><P>This is a fundraiser event for our upcoming concert October 18\, 2014. Please join us for Door Prizes\, Auction\, Hot Food\, and Good Music. </P><P>See you there! </P>
LOCATION:Barking Dog Grill 940 11th Street Modesto\, CA 95354
UID:e.2695.552
SEQUENCE:3
DTSTAMP:20260422T194541Z
URL:https://business.modchamber.org/events/details/fundraiser-kick-off-northern-california-women-s-music-festival-09-12-2014-552
END:VEVENT

END:VCALENDAR
