BEGIN:VCALENDAR
VERSION:2.0
PRODID:-//ChamberMaster//Event Calendar 2.0//EN
METHOD:PUBLISH
X-PUBLISHED-TTL:P3D
REFRESH-INTERVAL:P3D
CALSCALE:GREGORIAN
BEGIN:VEVENT
DTSTART:20150502T030000Z
DTEND:20150501T070000Z
X-MICROSOFT-CDO-ALLDAYEVENT:FALSE
SUMMARY:From White Plains
DESCRIPTION:Just because it gets better doesn’t mean it didn’t happen. \n\nWhen a young director receives international recognition for a film based on his experience of bullying in high school he names the real life bully in his acceptance speech. The two lives that once intersected in high school\, are now publicly tangled together by social media. Is forgiveness possible? \n\n“Bristles with suspense…playing out in arenas both painfully intimate and glaringly public” – The New York Times \n\nMature True to Life Themes and Explicit Language.\nContact :	Gallo Center\nPhone :	209-338-2100\nEmail :	\nWeb Site :	galloarts.org
X-ALT-DESC;FMTTYPE=text/html:Just because it gets better doesn’t mean it didn’t happen. \n\nWhen a young director receives international recognition for a film based on his experience of bullying in high school he names the real life bully in his acceptance speech. The two lives that once intersected in high school\, are now publicly tangled together by social media. Is forgiveness possible? \n\n“Bristles with suspense…playing out in arenas both painfully intimate and glaringly public” – The New York Times \n\nMature True to Life Themes and Explicit Language.\nContact :	Gallo Center\nPhone :	209-338-2100\nEmail :	\nWeb Site :	galloarts.org
LOCATION:Gallo Center 1000 I St Modesto\, CA 95354
UID:e.2695.905
SEQUENCE:3
DTSTAMP:20260420T045231Z
URL:https://business.modchamber.org/events/details/from-white-plains-05-01-2015-905
END:VEVENT

END:VCALENDAR
