BEGIN:VCALENDAR
VERSION:2.0
PRODID:-//ChamberMaster//Event Calendar 2.0//EN
METHOD:PUBLISH
X-PUBLISHED-TTL:P3D
REFRESH-INTERVAL:P3D
CALSCALE:GREGORIAN
BEGIN:VEVENT
DTSTART:20150622T170000Z
DTEND:20150622T180000Z
X-MICROSOFT-CDO-ALLDAYEVENT:FALSE
SUMMARY:Free training grants Ages 17-24
DESCRIPTION:Computer Tutor Business & Technical Institute has received a grant to train ages 17-24 (Up to 25th birthday) who reside in Stanislaus County. Those who qualify will receive FREE* career training in Administrative Assistant\, Administrative Medical or Administrative Accounting and/or Paid Work Experience\, along with job placement assistance.
X-ALT-DESC;FMTTYPE=text/html:Computer Tutor Business & Technical Institute has received a grant to train ages 17-24 (Up to 25th birthday) who reside in Stanislaus County. Those who qualify will receive FREE* career training in Administrative Assistant\, Administrative Medical or Administrative Accounting and/or Paid Work Experience\, along with job placement assistance. \n
LOCATION:4300 Sisk Road
UID:e.2695.1113
SEQUENCE:3
DTSTAMP:20260420T031910Z
URL:https://business.modchamber.org/events/details/free-training-grants-ages-17-24-06-22-2015-1113
END:VEVENT

END:VCALENDAR
