BEGIN:VCALENDAR
VERSION:2.0
PRODID:-//ChamberMaster//Event Calendar 2.0//EN
METHOD:PUBLISH
X-PUBLISHED-TTL:P3D
REFRESH-INTERVAL:P3D
CALSCALE:GREGORIAN
BEGIN:VEVENT
DTSTART:20140807T230000Z
DTEND:20140808T020000Z
X-MICROSOFT-CDO-ALLDAYEVENT:FALSE
SUMMARY:FREE - Safety Fair
DESCRIPTION:This event is FREE to the public. Come enjoy this Safety Fair along with free hot dogs and popcorn. See you there and don't forget to bring your neighbors and friends!
X-ALT-DESC;FMTTYPE=text/html:This event is FREE to the public. Come enjoy this Safety Fair along with free hot dogs and popcorn. See you there and don't forget to bring your neighbors and friends!
LOCATION:Kaplan College 5172 Kiernan Court Salida\, CA 95368
UID:e.2695.534
SEQUENCE:3
DTSTAMP:20260422T210905Z
URL:https://business.modchamber.org/events/details/free-safety-fair-08-07-2014-534
END:VEVENT

END:VCALENDAR
