BEGIN:VCALENDAR
VERSION:2.0
PRODID:-//ChamberMaster//Event Calendar 2.0//EN
METHOD:PUBLISH
X-PUBLISHED-TTL:P3D
REFRESH-INTERVAL:P3D
CALSCALE:GREGORIAN
BEGIN:VEVENT
DTSTART:20160121T233000Z
DTEND:20160121T080000Z
X-MICROSOFT-CDO-ALLDAYEVENT:FALSE
SUMMARY:FREE Kid’s Club\, Powered by Nat Geo Kids - Polar Bear Party
DESCRIPTION:This month's theme: Polar Bear Party!\n\nThe Vintage Faire Mall Kids Club is a great opportunity for your child to learn in a fun\, interactive setting. We've teamed up with National Geographic Kids to create fun activities and games that focus on discovery through play. \n\nThe Vintage Fair Kids Club is located in Center Court\, near Guest Services and takes place the 3rd Thursday of each month from 3:30PM to 5:00PM. \n\nHosted by DJ Walker of KAT Country.\nContact :	Vintage Faire Mall\nPhone :	209-527-3401\nEmail :	\nWeb Site :
X-ALT-DESC;FMTTYPE=text/html:This month's theme: Polar Bear Party!\n\nThe Vintage Faire Mall Kids Club is a great opportunity for your child to learn in a fun\, interactive setting. We've teamed up with National Geographic Kids to create fun activities and games that focus on discovery through play. \n\nThe Vintage Fair Kids Club is located in Center Court\, near Guest Services and takes place the 3rd Thursday of each month from 3:30PM to 5:00PM. \n\nHosted by DJ Walker of KAT Country.\nContact :	Vintage Faire Mall\nPhone :	209-527-3401\nEmail :	\nWeb Site :	
LOCATION:Vintage Faire Mall 3401 Dale Road Modesto\, CA 95355
UID:e.2695.645
SEQUENCE:3
DTSTAMP:20260419T175055Z
URL:https://business.modchamber.org/events/details/free-kid-s-club-powered-by-nat-geo-kids-polar-bear-party-01-21-2016-645
END:VEVENT

END:VCALENDAR
