BEGIN:VCALENDAR
VERSION:2.0
PRODID:-//ChamberMaster//Event Calendar 2.0//EN
METHOD:PUBLISH
X-PUBLISHED-TTL:P3D
REFRESH-INTERVAL:P3D
CALSCALE:GREGORIAN
BEGIN:VEVENT
DTSTART:20150521T223000Z
DTEND:20150521T070000Z
X-MICROSOFT-CDO-ALLDAYEVENT:FALSE
SUMMARY:Free Kid's Club\, Powered by Nat Geo Kids
DESCRIPTION:The Vintage Faire Mall Kids Club is a great opportunity for your child to learn in a fun\, interactive setting. We've teamed up with National Geographic Kids to create fun activities and games that focus on discovery through play. \n\nThe Vintage Fair Kids Club is located in Center Court\, near Guest Services and takes place the 3rd Thursday of each month from 3:30PM to 5:00PM. \n\nHosted by DJ Walker of KAT Country.\nContact :	Vintage Faire Mall\nPhone :	209-527-3401
X-ALT-DESC;FMTTYPE=text/html:	The Vintage Faire Mall Kids Club is a great opportunity for your child to learn in a fun\, interactive setting. We've teamed up with National Geographic Kids to create fun activities and games that focus on discovery through play. \n\nThe Vintage Fair Kids Club is located in Center Court\, near Guest Services and takes place the 3rd Thursday of each month from 3:30PM to 5:00PM. \n\nHosted by DJ Walker of KAT Country.\nContact :	Vintage Faire Mall\nPhone :	209-527-3401
LOCATION:Vintage Faire Mall 3401 Dale Rd Modesto\, CA 95356
UID:e.2695.942
SEQUENCE:3
DTSTAMP:20260420T045809Z
URL:https://business.modchamber.org/events/details/free-kid-s-club-powered-by-nat-geo-kids-05-21-2015-942
END:VEVENT

END:VCALENDAR
