BEGIN:VCALENDAR
VERSION:2.0
PRODID:-//ChamberMaster//Event Calendar 2.0//EN
METHOD:PUBLISH
X-PUBLISHED-TTL:P3D
REFRESH-INTERVAL:P3D
CALSCALE:GREGORIAN
BEGIN:VEVENT
DTSTART:20160112T040000Z
DTEND:20160111T080000Z
X-MICROSOFT-CDO-ALLDAYEVENT:FALSE
SUMMARY:FOREVER TANGO
DESCRIPTION:Come TANGO WITH THE STARS! \nSee Guest Artists ANNA TREBUNSKAYA and \nDMITRY CHAPLIN\nperforming in LUIS BRAVO’S \ninternationally acclaimed FOREVER TANGO!!\n\nFOREVER TANGO celebrates the passionate music and dance of Argentina\, with six world-class Argentine Tango couples\, a traditional Argentine 1930s style vocalist and eleven piece orchestra\, featuring the instrument of the tango\, the bandoneón\, a 19thcentury German accordion. For this tour only\, the company is joined by guest artists Anna Trebunskaya and Dmitry Chaplin\, of Dancing with the Stars and renown. The dances\, performed to original and traditional music\, are the result of collaboration between each couple and director/creator Luis Bravo.\n\nFOREVER TANGO opened on Broadway in June of 1997 for what was expected to be an eight-week engagement\, but ran for 14 months! Its 92-week run in San Francisco set a record for longest run for a touring show. Sizzling reviews and enthusiastic word of mouth reports have created a huge demand for tickets and forced FOREVER TANGO's run to be extended again and again.\nContact :	Gallo Center\nPhone :	209-338-2100\nEmail :	\nWeb Site :	galloarts.org
X-ALT-DESC;FMTTYPE=text/html:Come TANGO WITH THE STARS! \nSee Guest Artists ANNA TREBUNSKAYA and \nDMITRY CHAPLIN\nperforming in LUIS BRAVO’S \ninternationally acclaimed FOREVER TANGO!!\n\nFOREVER TANGO celebrates the passionate music and dance of Argentina\, with six world-class Argentine Tango couples\, a traditional Argentine 1930s style vocalist and eleven piece orchestra\, featuring the instrument of the tango\, the bandoneón\, a 19thcentury German accordion. For this tour only\, the company is joined by guest artists Anna Trebunskaya and Dmitry Chaplin\, of Dancing with the Stars and renown. The dances\, performed to original and traditional music\, are the result of collaboration between each couple and director/creator Luis Bravo.\n\nFOREVER TANGO opened on Broadway in June of 1997 for what was expected to be an eight-week engagement\, but ran for 14 months! Its 92-week run in San Francisco set a record for longest run for a touring show. Sizzling reviews and enthusiastic word of mouth reports have created a huge demand for tickets and forced FOREVER TANGO's run to be extended again and again.\nContact :	Gallo Center\nPhone :	209-338-2100\nEmail :	\nWeb Site :	galloarts.org
LOCATION:Gallo Center 1000 I St Modesto\, CA 95354
UID:e.2695.1336
SEQUENCE:3
DTSTAMP:20260419T190428Z
URL:https://business.modchamber.org/events/details/forever-tango-01-11-2016-1336
END:VEVENT

END:VCALENDAR
