BEGIN:VCALENDAR
VERSION:2.0
PRODID:-//ChamberMaster//Event Calendar 2.0//EN
METHOD:PUBLISH
X-PUBLISHED-TTL:P3D
REFRESH-INTERVAL:P3D
CALSCALE:GREGORIAN
BEGIN:VEVENT
DTSTART:20150509T030000Z
DTEND:20150508T070000Z
X-MICROSOFT-CDO-ALLDAYEVENT:FALSE
SUMMARY:Forbidden Broadway
DESCRIPTION:Forbidden Broadway debuted in 1982. Founded by an unemployed actor\, Gerard Alessandrini\, it is now New York’s longest-running musical comedy revue. The show has mercilessly parodied every beloved Broadway show for more than 30 years. Wicked? Check. Mary Poppins? You bet. Updated regularly\, Forbidden Broadway has won Tony\, Drama Desk\, Obie and Outer Critics Circle awards. As long as Broadway exists\, this show will be there\, hilariously poking\, prodding\, teasing\, pleasing\, jeering and cheering\, but always with love.\nContact :	Gallo Center\nPhone :	209-338-2100\nEmail :	\nWeb Site :	galloarts.org
X-ALT-DESC;FMTTYPE=text/html:	Forbidden Broadway debuted in 1982. Founded by an unemployed actor\, Gerard Alessandrini\, it is now New York’s longest-running musical comedy revue. The show has mercilessly parodied every beloved Broadway show for more than 30 years. Wicked? Check. Mary Poppins? You bet. Updated regularly\, Forbidden Broadway has won Tony\, Drama Desk\, Obie and Outer Critics Circle awards. As long as Broadway exists\, this show will be there\, hilariously poking\, prodding\, teasing\, pleasing\, jeering and cheering\, but always with love.\nContact :	Gallo Center\nPhone :	209-338-2100\nEmail :	\nWeb Site :	galloarts.org
LOCATION:Gallo Center 1000 I St Modesto\, CA 95354
UID:e.2695.922
SEQUENCE:3
DTSTAMP:20260420T045201Z
URL:https://business.modchamber.org/events/details/forbidden-broadway-05-08-2015-922
END:VEVENT

END:VCALENDAR
