BEGIN:VCALENDAR
VERSION:2.0
PRODID:-//ChamberMaster//Event Calendar 2.0//EN
METHOD:PUBLISH
X-PUBLISHED-TTL:P3D
REFRESH-INTERVAL:P3D
CALSCALE:GREGORIAN
BEGIN:VEVENT
DTSTART:20151012T010000Z
DTEND:20151011T070000Z
X-MICROSOFT-CDO-ALLDAYEVENT:FALSE
SUMMARY:for KING AND COUNTRY
DESCRIPTION:Australian brothers Joel and Luke Smallbone have accomplished a great deal in a very short time. This duo’s soaring melodies\, driving rhythms\, theatrical instrumentation and personal themes drove them to a win for Best New Artist of the Year at 2013 GMA Dove Awards. Earlier this year they won two Grammy Awards: Best Contemporary Christian Music Album (“Run Wild. Live Free. Love Strong.”) and Best Contemporary Christian Music Performance/Song ("Messengers”)\, on which they performed with Christian rapper Lecrae. It doesn't get hotter than that.\nContact :	Gallo Center\nPhone :	209-338-2100\nEmail :	\nWeb Site :	galloarts.org
X-ALT-DESC;FMTTYPE=text/html:Australian brothers Joel and Luke Smallbone have accomplished a great deal in a very short time. This duo’s soaring melodies\, driving rhythms\, theatrical instrumentation and personal themes drove them to a win for Best New Artist of the Year at 2013 GMA Dove Awards. Earlier this year they won two Grammy Awards: Best Contemporary Christian Music Album (“Run Wild. Live Free. Love Strong.”) and Best Contemporary Christian Music Performance/Song ("Messengers”)\, on which they performed with Christian rapper Lecrae. It doesn't get hotter than that.\nContact :	Gallo Center\nPhone :	209-338-2100\nEmail :	\nWeb Site :	galloarts.org
LOCATION:Gallo Center 1000 I St Modesto\, CA 95354
UID:e.2695.1222
SEQUENCE:3
DTSTAMP:20260419T214757Z
URL:https://business.modchamber.org/events/details/for-king-and-country-10-11-2015-1222
END:VEVENT

END:VCALENDAR
