BEGIN:VCALENDAR
VERSION:2.0
PRODID:-//ChamberMaster//Event Calendar 2.0//EN
METHOD:PUBLISH
X-PUBLISHED-TTL:P3D
REFRESH-INTERVAL:P3D
CALSCALE:GREGORIAN
BEGIN:VEVENT
DTSTART:20140921T160000Z
DTEND:20140921T210000Z
X-MICROSOFT-CDO-ALLDAYEVENT:FALSE
SUMMARY:Fist Aid CPR Re-certification near Modesto
DESCRIPTION:The CPR First Aid Class is 5 hours long. You will learn how to perform CPR on an adult\, child and infant\, choke saving\, how to use the AED and basic First Aid. \n\nWe recommend wearing comfortable clothing\, since you will get a lot of CPR practice with the manikins. \n\nFor more information\, pleasevisit our website: http://www.cprcpr.com/course-catalog/cpr-first-aid-class-in-the-bay-area/
X-ALT-DESC;FMTTYPE=text/html:The CPR First Aid Class is 5 hours long. You will learn how to perform CPR on an adult\, child and infant\, choke saving\, how to use the AED and basic First Aid. \n\nWe recommend wearing comfortable clothing\, since you will get a lot of CPR practice with the manikins. \n\nFor more information\, pleasevisit our website: http://www.cprcpr.com/course-catalog/cpr-first-aid-class-in-the-bay-area/
LOCATION:Manteca CPR Classes 620 East Yosemite ave. Manteca\, CA 95336
UID:e.2695.557
SEQUENCE:3
DTSTAMP:20260422T180900Z
URL:https://business.modchamber.org/events/details/fist-aid-cpr-re-certification-near-modesto-09-21-2014-557
END:VEVENT

END:VCALENDAR
