BEGIN:VCALENDAR
VERSION:2.0
PRODID:-//ChamberMaster//Event Calendar 2.0//EN
METHOD:PUBLISH
X-PUBLISHED-TTL:P3D
REFRESH-INTERVAL:P3D
CALSCALE:GREGORIAN
BEGIN:VEVENT
DTSTART:20160318T020000Z
DTEND:20160317T070000Z
X-MICROSOFT-CDO-ALLDAYEVENT:FALSE
SUMMARY:First Generation\, the Movie
DESCRIPTION:Please join us\, and please invite your students to attend. The event is free and open to the public. Flex # 6030\n\nThis film follows the lives of four California high school students as they aim to be the first in their families to attend college. In their pursuit of higher education\, these students strive to break free from the cycle of income inequality and serve to inspire their families and communities.\nContact : 	Jason Wohlstadter\, English Professor\nPhone : 	209.575.6180\nEmail : 	\nWeb Site :
X-ALT-DESC;FMTTYPE=text/html:Please join us\, and please invite your students to attend. The event is free and open to the public. Flex # 6030\n\nThis film follows the lives of four California high school students as they aim to be the first in their families to attend college. In their pursuit of higher education\, these students strive to break free from the cycle of income inequality and serve to inspire their families and communities.\nContact : 	Jason Wohlstadter\, English Professor\nPhone : 	209.575.6180\nEmail : 	\nWeb Site :
LOCATION:MJC\, East Campus 435 College Ave Modesto\, CA 95350
UID:e.2695.1566
SEQUENCE:3
DTSTAMP:20260419T154237Z
URL:https://business.modchamber.org/events/details/first-generation-the-movie-03-17-2016-1566
END:VEVENT

END:VCALENDAR
