BEGIN:VCALENDAR
VERSION:2.0
PRODID:-//ChamberMaster//Event Calendar 2.0//EN
METHOD:PUBLISH
X-PUBLISHED-TTL:P3D
REFRESH-INTERVAL:P3D
CALSCALE:GREGORIAN
BEGIN:VEVENT
DTSTART:20150111T210000Z
DTEND:20150112T020000Z
X-MICROSOFT-CDO-ALLDAYEVENT:FALSE
SUMMARY:First Aid CPR Training Course in Manteca
DESCRIPTION:The CPR First Aid Class is 5 hours long. You will learn how to perform CPR on an adult\, child and infant\, choke saving\, how to use the AED and basic First Aid. \n\nWe recommend wearing comfortable clothing\, since you will get a lot of CPR practice with the manikins.
X-ALT-DESC;FMTTYPE=text/html:The CPR First Aid Class is 5 hours long. You will learn how to perform CPR on an adult\, child and infant\, choke saving\, how to use the AED and basic First Aid. \n\nWe recommend wearing comfortable clothing\, since you will get a lot of CPR practice with the manikins.
LOCATION:Manteca CPR Classes 620 East Yosemite ave. Manteca\, CA 95336
UID:e.2695.495
SEQUENCE:3
DTSTAMP:20260422T121453Z
URL:https://business.modchamber.org/events/details/first-aid-cpr-training-course-in-manteca-01-11-2015-495
END:VEVENT

END:VCALENDAR
