BEGIN:VCALENDAR
VERSION:2.0
PRODID:-//ChamberMaster//Event Calendar 2.0//EN
METHOD:PUBLISH
X-PUBLISHED-TTL:P3D
REFRESH-INTERVAL:P3D
CALSCALE:GREGORIAN
BEGIN:VEVENT
DTSTART:20141206T210000Z
DTEND:20141207T020000Z
X-MICROSOFT-CDO-ALLDAYEVENT:FALSE
SUMMARY:First Aid CPR Renewal Class in Manteca
DESCRIPTION:Emergencies can happen at any time! Therefore is good to be prepare. This could be from a heart attack or a child choking at a restaurant. \nThe CPR First Aid Class will teach you skills that you needwhen you are in an emergency situation. We recommend wearing comfortable clothing when you come toclass. You will be practicing a lot with the manikins!
X-ALT-DESC;FMTTYPE=text/html:Emergencies can happen at any time! Therefore is good to be prepare. This could be from a heart attack or a child choking at a restaurant. \nThe CPR First Aid Class will teach you skills that you needwhen you are in an emergency situation. We recommend wearing comfortable clothing when you come toclass. You will be practicing a lot with the manikins!
LOCATION:Manteca CPR Classes 620 East Yosemite ave. Manteca\, CA 95336
UID:e.2695.605
SEQUENCE:3
DTSTAMP:20260422T134137Z
URL:https://business.modchamber.org/events/details/first-aid-cpr-renewal-class-in-manteca-12-06-2014-605
END:VEVENT

END:VCALENDAR
