BEGIN:VCALENDAR
VERSION:2.0
PRODID:-//ChamberMaster//Event Calendar 2.0//EN
METHOD:PUBLISH
X-PUBLISHED-TTL:P3D
REFRESH-INTERVAL:P3D
CALSCALE:GREGORIAN
BEGIN:VEVENT
DTSTART:20140712T200000Z
DTEND:20140712T230000Z
X-MICROSOFT-CDO-ALLDAYEVENT:FALSE
SUMMARY:First Aid CPR Certification near Modesto
DESCRIPTION:The CPR First Aid Class is 5 hours long. You will learn how to perform CPR on an adult\, child and infant\, choke saving\, how to use the AED and basic First Aid. \n\nWe recommend wearing comfortable clothing\, since you will get a lot of CPR practice with the manikins. \n\nDon't forget to "Check In" onFacebook to get your Free Keychain Mask on day of class! https://www.facebook.com/mantecacprclasses\n\nFor more information\, please visit our website: http://www.cprseminars.com/course-catalog/heartsaver-cpraedfirst-aid/
X-ALT-DESC;FMTTYPE=text/html:The CPR First Aid Class is 5 hours long. You will learn how to perform CPR on an adult\, child and infant\, choke saving\, how to use the AED and basic First Aid. \n\nWe recommend wearing comfortable clothing\, since you will get a lot of CPR practice with the manikins. \n\nDon't forget to "Check In" onFacebook to get your Free Keychain Mask on day of class! https://www.facebook.com/mantecacprclasses\n\nFor more information\, please visit our website: http://www.cprseminars.com/course-catalog/heartsaver-cpraedfirst-aid/
LOCATION:Manteca CPR Classes 620 East Yosemite ave. Manteca\, CA 95336
UID:e.2695.491
SEQUENCE:3
DTSTAMP:20260422T210905Z
URL:https://business.modchamber.org/events/details/first-aid-cpr-certification-near-modesto-07-12-2014-491
END:VEVENT

END:VCALENDAR
