BEGIN:VCALENDAR
VERSION:2.0
PRODID:-//ChamberMaster//Event Calendar 2.0//EN
METHOD:PUBLISH
X-PUBLISHED-TTL:P3D
REFRESH-INTERVAL:P3D
CALSCALE:GREGORIAN
BEGIN:VEVENT
DTSTART:20140719T230000Z
DTEND:20140720T010000Z
X-MICROSOFT-CDO-ALLDAYEVENT:FALSE
SUMMARY:First Aid Certification near Modesto
DESCRIPTION:If you sign up for the Heartsaver First-aid class you will learn the following topics: bleeding control\, seizures\, epi pen use\, allergic reactions\, snake bites\, broken bones\, poisoning\, and other lifethreatening emergencies. This course is for renewing\, recertification\, or initial student and is considered a basic first-aid class.
X-ALT-DESC;FMTTYPE=text/html:If you sign up for the Heartsaver First-aid class you will learn the following topics: bleeding control\, seizures\, epi pen use\, allergic reactions\, snake bites\, broken bones\, poisoning\, and other lifethreatening emergencies. This course is for renewing\, recertification\, or initial student and is considered a basic first-aid class.
LOCATION:Manteca CPR Classes 620 East Yosemite ave. Manteca\, CA 95336
UID:e.2695.516
SEQUENCE:3
DTSTAMP:20260422T210655Z
URL:https://business.modchamber.org/events/details/first-aid-certification-near-modesto-07-19-2014-516
END:VEVENT

END:VCALENDAR
