BEGIN:VCALENDAR
VERSION:2.0
PRODID:-//ChamberMaster//Event Calendar 2.0//EN
METHOD:PUBLISH
X-PUBLISHED-TTL:P3D
REFRESH-INTERVAL:P3D
CALSCALE:GREGORIAN
BEGIN:VEVENT
DTSTART:20140717T230000Z
DTEND:20140718T010000Z
X-MICROSOFT-CDO-ALLDAYEVENT:FALSE
SUMMARY:First Aid Certification in Manteca
DESCRIPTION:The Heartsaver First-aid class covers the following topics: bleeding control\, seizures\, epi pen use\,allergic reactions\, snake bites\, broken bones\, poisoning\, and other life threatening emergencies. This course is for renewing\, recertification\, or initial student and is considered a basic first-aidclass.
X-ALT-DESC;FMTTYPE=text/html:The Heartsaver First-aid class covers the following topics: bleeding control\, seizures\, epi pen use\,allergic reactions\, snake bites\, broken bones\, poisoning\, and other life threatening emergencies. This course is for renewing\, recertification\, or initial student and is considered a basic first-aidclass.
LOCATION:Manteca CPR Classes 620 East Yosemite ave. Manteca\, CA 95336
UID:e.2695.528
SEQUENCE:3
DTSTAMP:20260422T223539Z
URL:https://business.modchamber.org/events/details/first-aid-certification-in-manteca-07-17-2014-528
END:VEVENT

END:VCALENDAR
